Workbook

Sheet READER
A1: MEETSTAAT GEBRUIK EN BEPALINGEN
A3: Deze meetstaat bestaat uit 2delen, een tabblad VERT voor de verticale signalisatie en een tabblad wegmarkeringen (WM).
A5: Alle materialen, plaatsingsmethodes, plaatsing, enz. dienen conform het meest recente standaardbestek 250 geleverd, geplaatst en of uitgevoerd te worden.
A7: Verwijzingen
A9: De nummering in de tabbladen verwijst naar een element op het transitieplan (TP). Bij de verkeersborden wordt eerst verwezen naar de opstelling, vervolgens naar de verschillende delen op dezelfde opstelling. Deze corresponderen met de opstelling en vervolgnummering op het transitieplan.
A11: Bij de wegmarkeringen wordt de nummering voorafgegaan door de letter W.
A13: Verkeerstekens
A15: De grootte van de palen is indicatief in functie van de grootte van de te plaatsen verkeersborden, de normale ondergrondse diepte. De diameter van de palen is bepaald volgens de rekenmodule van de Vlaamse overheid. De aannemer bepaalt ter plaatse of de voorgestelde paal voldoende is in functie van de plaatsgesteldheid, de minimale hoogte van het onderste verkeersbord en eventuele andere elementen. Desgevallend zal hij een meer geschikte paal gebruiken.
A16: De afmetingen van de verkeersborden zijn bepaald in de meetstaat. Dit zijn minimumafmetingen, waar men slechts van mag afwijken naar boven toe. Desgevallend zal alsdan ook een meer geschikte paal gekozen worden, teneinde de minimum opstelhoogte te vrijwaren.
A18: De opstelhoogte van het onderste bord wordt weergegeven, hetzij bij de nieuw te plaatsen paal, hetzij bij het onderste bord bij een bestaande paal.
A20: De hiërarchische volgorde van de borden op de opstelling moet exact beantwoorden aan de volgorde zoals aangegeven op het corresponderende plan OT.
A22: De inplanting van de paal op het plan is indicatief en moet in de praktijk beantwoorden aan de bepalingen m.b.t. de inplanting uit het Standaardbestek 250. Het verkeersteken moet voldoende zichtbaar worden opgesteld. Ten dien einde dient eventueel overhangend groen, hoog struikgewas enz. in de juiste snoeivorm gezet te worden.
... A30: AACON bv - MS V03 - 2023

Sheet VERT
A1: PLAN | D1: OPST | E1: ID | F1: LOCATIE | G1: SUBLOCATIE | H1: WEGZIJDE | I1: STEUN | J1: ITEM | K1: AFMETING | L1: OPSCHRIFT | M1: SYMBOOL | N1: PIJLPUNT | O1: ORIËNTATIE | P1: OPSTELHOOGTE | Q1: ACTIE | R1: AANTAL | S1: OPMERKING
A2: 16701019 | B2: =IF(A2<>"","_TP_V","") -> _TP_V | C2: 1 | D2: 1001 | E2: 1 | F2: Nederbeert | G2: tegenover 3 | I2: Paal 76 x 3500mm - RAL 2009 | Q2: nieuw te plaatsen | R2: 1
A3: 16701019 | B3: =IF(A3<>"","_TP_V","") -> _TP_V | C3: =IF(B3<>"",C2,"") -> 1 | E3: =IF(A3<>"",E2+1,"") -> 2 | J3: E9a | K3: 400 x 600 | M3: stekker | O3: as | P3: 2100 | Q3: nieuw te plaatsen | R3: 1
A4: 16701019 | B4: =IF(A4<>"","_TP_V","") -> _TP_V | C4: =IF(B4<>"",C3,"") -> 1 | D4: 1003 | E4: =IF(A4<>"",E3+1,"") -> 3 | F4: Nederbeert | G4: tegenover 3 | I4: Paal 76 x 3500mm - RAL 2009 | Q4: nieuw te plaatsen | R4: 1
A5: 16701019 | B5: =IF(A5<>"","_TP_V","") -> _TP_V | C5: =IF(B5<>"",C4,"") -> 1 | E5: =IF(A5<>"",E4+1,"") -> 4 | J5: E9a | K5: 400 x 600 | M5: stekker | O5: as | P5: 2100 | Q5: nieuw te plaatsen | R5: 1
B6: =IF(A6<>"","_TP_V","") | C6: =IF(B6<>"",C5,"") | E6: =IF(A6<>"",E5+1,"")
B7: =IF(A7<>"","_TP_V","") | C7: =IF(B7<>"",C6,"") | E7: =IF(A7<>"",E6+1,"")
B8: =IF(A8<>"","_TP_V","") | C8: =IF(B8<>"",C7,"") | E8: =IF(A8<>"",E7+1,"")
B9: =IF(A9<>"","_TP_V","") | C9: =IF(B9<>"",C8,"") | E9: =IF(A9<>"",E8+1,"")
B10: =IF(A10<>"","_TP_V","") | C10: =IF(B10<>"",C9,"") | E10: =IF(A10<>"",E9+1,"")
B11: =IF(A11<>"","_TP_V","") | C11: =IF(B11<>"",C10,"") | E11: =IF(A11<>"",E10+1,"")
B12: =IF(A12<>"","_TP_V","") | C12: =IF(B12<>"",C11,"") | E12: =IF(A12<>"",E11+1,"")
B13: =IF(A13<>"","_TP_V","") | C13: =IF(B13<>"",C12,"") | E13: =IF(A13<>"",E12+1,"")
B14: =IF(A14<>"","_TP_V","") | C14: =IF(B14<>"",C13,"") | E14: =IF(A14<>"",E13+1,"")
B15: =IF(A15<>"","_TP_V","") | C15: =IF(B15<>"",C14,"") | E15: =IF(A15<>"",E14+1,"")
B16: =IF(A16<>"","_TP_V","") | C16: =IF(B16<>"",C15,"") | E16: =IF(A16<>"",E15+1,"")
B17: =IF(A17<>"","_TP_V","") | C17: =IF(B17<>"",C16,"") | E17: =IF(A17<>"",E16+1,"")
... B3000: =IF(A3000<>"","_TP_V","") | C3000: =IF(B3000<>"",C2999,"") | E3000: =IF(A3000<>"",E2999+1,"")

Sheet WM
A1: PLAN | D1: W | E1: ID | F1: LOCATIE | G1: SUBLOCATIE | I1: ITEM | J1: Lengte | K1: Lijndikte | L1: Hiaat | M1: hoogte | N1: breedte | O1: eenheid | P1: netto | Q1: eenheid | R1: totaal lm | S1: totaal st | T1: totaal m² | U1: Actie
B2: =IF(A2<>"","_TP_V","") | C2: 1 | E2: 1 | I2: =IF(H2<>"",LOOKUP(H2,WM_LI!$A$2:$A$1000,WM_LI!$B$2:$B$1000),"") | J2: =IF(H2<>"",LOOKUP(H2,WM_LI!$A$2:$A$1000,WM_LI!$C$2:$C$1000),"") | K2: =IF(H2<>"",LOOKUP(H2,WM_LI!$A$2:$A$1000,WM_LI!$D$2:$D$1000),"") | L2: =IF(H2<>"",LOOKUP(H2,WM_LI!$A$2:$A$1000,WM_LI!$E$2:$E$1000),"") | M2: =IF(H2<>"",LOOKUP(H2,WM_LI!$A$2:$A$1000,WM_LI!$F$2:$F$1000),"") | N2: =IF(H2<>"",LOOKUP(H2,WM_LI!$A$2:$A$1000,WM_LI!$G$2:$G$1000),"") | O2: =IF(H2<>"",LOOKUP(H2,WM_LI!$A$2:$A$1000,WM_LI!$H$2:$H$1000),"") | P2: =IF(H2<>"",LOOKUP(H2,WM_LI!$A$2:$A$1000,WM_LI!$I$2:$I$1000),"") | Q2: =IF(H2<>"",LOOKUP(H2,WM_LI!$A$2:$A$1000,WM_LI!$J$2:$J$1000),"") | T2: =IF(OR(R2<>"",S2<>""),SUM((R2*P2),(S2*P2)),"")
B3: =IF(A3<>"","_TP_V","") | C3: =IF(A3<>"",C2,"") | E3: =IF(A3<>"",E2+1,"") | I3: =IF(H3<>"",LOOKUP(H3,WM_LI!$A$2:$A$1000,WM_LI!$B$2:$B$1000),"") | J3: =IF(H3<>"",LOOKUP(H3,WM_LI!$A$2:$A$1000,WM_LI!$C$2:$C$1000),"") | K3: =IF(H3<>"",LOOKUP(H3,WM_LI!$A$2:$A$1000,WM_LI!$D$2:$D$1000),"") | L3: =IF(H3<>"",LOOKUP(H3,WM_LI!$A$2:$A$1000,WM_LI!$E$2:$E$1000),"") | M3: =IF(H3<>"",LOOKUP(H3,WM_LI!$A$2:$A$1000,WM_LI!$F$2:$F$1000),"") | N3: =IF(H3<>"",LOOKUP(H3,WM_LI!$A$2:$A$1000,WM_LI!$G$2:$G$1000),"") | O3: =IF(H3<>"",LOOKUP(H3,WM_LI!$A$2:$A$1000,WM_LI!$H$2:$H$1000),"") | P3: =IF(H3<>"",LOOKUP(H3,WM_LI!$A$2:$A$1000,WM_LI!$I$2:$I$1000),"") | Q3: =IF(H3<>"",LOOKUP(H3,WM_LI!$A$2:$A$1000,WM_LI!$J$2:$J$1000),"") | T3: =IF(OR(R3<>"",S3<>""),SUM((R3*P3),(S3*P3)),"")
B4: =IF(A4<>"","_TP_V","") | C4: =IF(A4<>"",C3,"") | E4: =IF(A4<>"",E3+1,"") | I4: =IF(H4<>"",LOOKUP(H4,WM_LI!$A$2:$A$1000,WM_LI!$B$2:$B$1000),"") | J4: =IF(H4<>"",LOOKUP(H4,WM_LI!$A$2:$A$1000,WM_LI!$C$2:$C$1000),"") | K4: =IF(H4<>"",LOOKUP(H4,WM_LI!$A$2:$A$1000,WM_LI!$D$2:$D$1000),"") | L4: =IF(H4<>"",LOOKUP(H4,WM_LI!$A$2:$A$1000,WM_LI!$E$2:$E$1000),"") | M4: =IF(H4<>"",LOOKUP(H4,WM_LI!$A$2:$A$1000,WM_LI!$F$2:$F$1000),"") | N4: =IF(H4<>"",LOOKUP(H4,WM_LI!$A$2:$A$1000,WM_LI!$G$2:$G$1000),"") | O4: =IF(H4<>"",LOOKUP(H4,WM_LI!$A$2:$A$1000,WM_LI!$H$2:$H$1000),"") | P4: =IF(H4<>"",LOOKUP(H4,WM_LI!$A$2:$A$1000,WM_LI!$I$2:$I$1000),"") | Q4: =IF(H4<>"",LOOKUP(H4,WM_LI!$A$2:$A$1000,WM_LI!$J$2:$J$1000),"") | T4: =IF(OR(R4<>"",S4<>""),SUM((R4*P4),(S4*P4)),"")
B5: =IF(A5<>"","_TP_V","") | C5: =IF(A5<>"",C4,"") | E5: =IF(A5<>"",E4+1,"") | I5: =IF(H5<>"",LOOKUP(H5,WM_LI!$A$2:$A$1000,WM_LI!$B$2:$B$1000),"") | J5: =IF(H5<>"",LOOKUP(H5,WM_LI!$A$2:$A$1000,WM_LI!$C$2:$C$1000),"") | K5: =IF(H5<>"",LOOKUP(H5,WM_LI!$A$2:$A$1000,WM_LI!$D$2:$D$1000),"") | L5: =IF(H5<>"",LOOKUP(H5,WM_LI!$A$2:$A$1000,WM_LI!$E$2:$E$1000),"") | M5: =IF(H5<>"",LOOKUP(H5,WM_LI!$A$2:$A$1000,WM_LI!$F$2:$F$1000),"") | N5: =IF(H5<>"",LOOKUP(H5,WM_LI!$A$2:$A$1000,WM_LI!$G$2:$G$1000),"") | O5: =IF(H5<>"",LOOKUP(H5,WM_LI!$A$2:$A$1000,WM_LI!$H$2:$H$1000),"") | P5: =IF(H5<>"",LOOKUP(H5,WM_LI!$A$2:$A$1000,WM_LI!$I$2:$I$1000),"") | Q5: =IF(H5<>"",LOOKUP(H5,WM_LI!$A$2:$A$1000,WM_LI!$J$2:$J$1000),"") | T5: =IF(OR(R5<>"",S5<>""),SUM((R5*P5),(S5*P5)),"")
B6: =IF(A6<>"","_TP_V","") | C6: =IF(A6<>"",C5,"") | E6: =IF(A6<>"",E5+1,"") | I6: =IF(H6<>"",LOOKUP(H6,WM_LI!$A$2:$A$1000,WM_LI!$B$2:$B$1000),"") | J6: =IF(H6<>"",LOOKUP(H6,WM_LI!$A$2:$A$1000,WM_LI!$C$2:$C$1000),"") | K6: =IF(H6<>"",LOOKUP(H6,WM_LI!$A$2:$A$1000,WM_LI!$D$2:$D$1000),"") | L6: =IF(H6<>"",LOOKUP(H6,WM_LI!$A$2:$A$1000,WM_LI!$E$2:$E$1000),"") | M6: =IF(H6<>"",LOOKUP(H6,WM_LI!$A$2:$A$1000,WM_LI!$F$2:$F$1000),"") | N6: =IF(H6<>"",LOOKUP(H6,WM_LI!$A$2:$A$1000,WM_LI!$G$2:$G$1000),"") | O6: =IF(H6<>"",LOOKUP(H6,WM_LI!$A$2:$A$1000,WM_LI!$H$2:$H$1000),"") | P6: =IF(H6<>"",LOOKUP(H6,WM_LI!$A$2:$A$1000,WM_LI!$I$2:$I$1000),"") | Q6: =IF(H6<>"",LOOKUP(H6,WM_LI!$A$2:$A$1000,WM_LI!$J$2:$J$1000),"") | T6: =IF(OR(R6<>"",S6<>""),SUM((R6*P6),(S6*P6)),"")
B7: =IF(A7<>"","_TP_V","") | C7: =IF(A7<>"",C6,"") | E7: =IF(A7<>"",E6+1,"") | I7: =IF(H7<>"",LOOKUP(H7,WM_LI!$A$2:$A$1000,WM_LI!$B$2:$B$1000),"") | J7: =IF(H7<>"",LOOKUP(H7,WM_LI!$A$2:$A$1000,WM_LI!$C$2:$C$1000),"") | K7: =IF(H7<>"",LOOKUP(H7,WM_LI!$A$2:$A$1000,WM_LI!$D$2:$D$1000),"") | L7: =IF(H7<>"",LOOKUP(H7,WM_LI!$A$2:$A$1000,WM_LI!$E$2:$E$1000),"") | M7: =IF(H7<>"",LOOKUP(H7,WM_LI!$A$2:$A$1000,WM_LI!$F$2:$F$1000),"") | N7: =IF(H7<>"",LOOKUP(H7,WM_LI!$A$2:$A$1000,WM_LI!$G$2:$G$1000),"") | O7: =IF(H7<>"",LOOKUP(H7,WM_LI!$A$2:$A$1000,WM_LI!$H$2:$H$1000),"") | P7: =IF(H7<>"",LOOKUP(H7,WM_LI!$A$2:$A$1000,WM_LI!$I$2:$I$1000),"") | Q7: =IF(H7<>"",LOOKUP(H7,WM_LI!$A$2:$A$1000,WM_LI!$J$2:$J$1000),"") | T7: =IF(OR(R7<>"",S7<>""),SUM((R7*P7),(S7*P7)),"")
B8: =IF(A8<>"","_TP_V","") | C8: =IF(A8<>"",C7,"") | E8: =IF(A8<>"",E7+1,"") | I8: =IF(H8<>"",LOOKUP(H8,WM_LI!$A$2:$A$1000,WM_LI!$B$2:$B$1000),"") | J8: =IF(H8<>"",LOOKUP(H8,WM_LI!$A$2:$A$1000,WM_LI!$C$2:$C$1000),"") | K8: =IF(H8<>"",LOOKUP(H8,WM_LI!$A$2:$A$1000,WM_LI!$D$2:$D$1000),"") | L8: =IF(H8<>"",LOOKUP(H8,WM_LI!$A$2:$A$1000,WM_LI!$E$2:$E$1000),"") | M8: =IF(H8<>"",LOOKUP(H8,WM_LI!$A$2:$A$1000,WM_LI!$F$2:$F$1000),"") | N8: =IF(H8<>"",LOOKUP(H8,WM_LI!$A$2:$A$1000,WM_LI!$G$2:$G$1000),"") | O8: =IF(H8<>"",LOOKUP(H8,WM_LI!$A$2:$A$1000,WM_LI!$H$2:$H$1000),"") | P8: =IF(H8<>"",LOOKUP(H8,WM_LI!$A$2:$A$1000,WM_LI!$I$2:$I$1000),"") | Q8: =IF(H8<>"",LOOKUP(H8,WM_LI!$A$2:$A$1000,WM_LI!$J$2:$J$1000),"") | T8: =IF(OR(R8<>"",S8<>""),SUM((R8*P8),(S8*P8)),"")
B9: =IF(A9<>"","_TP_V","") | C9: =IF(A9<>"",C8,"") | E9: =IF(A9<>"",E8+1,"") | I9: =IF(H9<>"",LOOKUP(H9,WM_LI!$A$2:$A$1000,WM_LI!$B$2:$B$1000),"") | J9: =IF(H9<>"",LOOKUP(H9,WM_LI!$A$2:$A$1000,WM_LI!$C$2:$C$1000),"") | K9: =IF(H9<>"",LOOKUP(H9,WM_LI!$A$2:$A$1000,WM_LI!$D$2:$D$1000),"") | L9: =IF(H9<>"",LOOKUP(H9,WM_LI!$A$2:$A$1000,WM_LI!$E$2:$E$1000),"") | M9: =IF(H9<>"",LOOKUP(H9,WM_LI!$A$2:$A$1000,WM_LI!$F$2:$F$1000),"") | N9: =IF(H9<>"",LOOKUP(H9,WM_LI!$A$2:$A$1000,WM_LI!$G$2:$G$1000),"") | O9: =IF(H9<>"",LOOKUP(H9,WM_LI!$A$2:$A$1000,WM_LI!$H$2:$H$1000),"") | P9: =IF(H9<>"",LOOKUP(H9,WM_LI!$A$2:$A$1000,WM_LI!$I$2:$I$1000),"") | Q9: =IF(H9<>"",LOOKUP(H9,WM_LI!$A$2:$A$1000,WM_LI!$J$2:$J$1000),"") | T9: =IF(OR(R9<>"",S9<>""),SUM((R9*P9),(S9*P9)),"")
B10: =IF(A10<>"","_TP_V","") | C10: =IF(A10<>"",C9,"") | E10: =IF(A10<>"",E9+1,"") | I10: =IF(H10<>"",LOOKUP(H10,WM_LI!$A$2:$A$1000,WM_LI!$B$2:$B$1000),"") | J10: =IF(H10<>"",LOOKUP(H10,WM_LI!$A$2:$A$1000,WM_LI!$C$2:$C$1000),"") | K10: =IF(H10<>"",LOOKUP(H10,WM_LI!$A$2:$A$1000,WM_LI!$D$2:$D$1000),"") | L10: =IF(H10<>"",LOOKUP(H10,WM_LI!$A$2:$A$1000,WM_LI!$E$2:$E$1000),"") | M10: =IF(H10<>"",LOOKUP(H10,WM_LI!$A$2:$A$1000,WM_LI!$F$2:$F$1000),"") | N10: =IF(H10<>"",LOOKUP(H10,WM_LI!$A$2:$A$1000,WM_LI!$G$2:$G$1000),"") | O10: =IF(H10<>"",LOOKUP(H10,WM_LI!$A$2:$A$1000,WM_LI!$H$2:$H$1000),"") | P10: =IF(H10<>"",LOOKUP(H10,WM_LI!$A$2:$A$1000,WM_LI!$I$2:$I$1000),"") | Q10: =IF(H10<>"",LOOKUP(H10,WM_LI!$A$2:$A$1000,WM_LI!$J$2:$J$1000),"") | T10: =IF(OR(R10<>"",S10<>""),SUM((R10*P10),(S10*P10)),"")
B11: =IF(A11<>"","_TP_V","") | C11: =IF(A11<>"",C10,"") | E11: =IF(A11<>"",E10+1,"") | I11: =IF(H11<>"",LOOKUP(H11,WM_LI!$A$2:$A$1000,WM_LI!$B$2:$B$1000),"") | J11: =IF(H11<>"",LOOKUP(H11,WM_LI!$A$2:$A$1000,WM_LI!$C$2:$C$1000),"") | K11: =IF(H11<>"",LOOKUP(H11,WM_LI!$A$2:$A$1000,WM_LI!$D$2:$D$1000),"") | L11: =IF(H11<>"",LOOKUP(H11,WM_LI!$A$2:$A$1000,WM_LI!$E$2:$E$1000),"") | M11: =IF(H11<>"",LOOKUP(H11,WM_LI!$A$2:$A$1000,WM_LI!$F$2:$F$1000),"") | N11: =IF(H11<>"",LOOKUP(H11,WM_LI!$A$2:$A$1000,WM_LI!$G$2:$G$1000),"") | O11: =IF(H11<>"",LOOKUP(H11,WM_LI!$A$2:$A$1000,WM_LI!$H$2:$H$1000),"") | P11: =IF(H11<>"",LOOKUP(H11,WM_LI!$A$2:$A$1000,WM_LI!$I$2:$I$1000),"") | Q11: =IF(H11<>"",LOOKUP(H11,WM_LI!$A$2:$A$1000,WM_LI!$J$2:$J$1000),"") | T11: =IF(OR(R11<>"",S11<>""),SUM((R11*P11),(S11*P11)),"")
B12: =IF(A12<>"","_TP_V","") | C12: =IF(A12<>"",C11,"") | E12: =IF(A12<>"",E11+1,"") | I12: =IF(H12<>"",LOOKUP(H12,WM_LI!$A$2:$A$1000,WM_LI!$B$2:$B$1000),"") | J12: =IF(H12<>"",LOOKUP(H12,WM_LI!$A$2:$A$1000,WM_LI!$C$2:$C$1000),"") | K12: =IF(H12<>"",LOOKUP(H12,WM_LI!$A$2:$A$1000,WM_LI!$D$2:$D$1000),"") | L12: =IF(H12<>"",LOOKUP(H12,WM_LI!$A$2:$A$1000,WM_LI!$E$2:$E$1000),"") | M12: =IF(H12<>"",LOOKUP(H12,WM_LI!$A$2:$A$1000,WM_LI!$F$2:$F$1000),"") | N12: =IF(H12<>"",LOOKUP(H12,WM_LI!$A$2:$A$1000,WM_LI!$G$2:$G$1000),"") | O12: =IF(H12<>"",LOOKUP(H12,WM_LI!$A$2:$A$1000,WM_LI!$H$2:$H$1000),"") | P12: =IF(H12<>"",LOOKUP(H12,WM_LI!$A$2:$A$1000,WM_LI!$I$2:$I$1000),"") | Q12: =IF(H12<>"",LOOKUP(H12,WM_LI!$A$2:$A$1000,WM_LI!$J$2:$J$1000),"") | T12: =IF(OR(R12<>"",S12<>""),SUM((R12*P12),(S12*P12)),"")
B13: =IF(A13<>"","_TP_V","") | C13: =IF(A13<>"",C12,"") | E13: =IF(A13<>"",E12+1,"") | I13: =IF(H13<>"",LOOKUP(H13,WM_LI!$A$2:$A$1000,WM_LI!$B$2:$B$1000),"") | J13: =IF(H13<>"",LOOKUP(H13,WM_LI!$A$2:$A$1000,WM_LI!$C$2:$C$1000),"") | K13: =IF(H13<>"",LOOKUP(H13,WM_LI!$A$2:$A$1000,WM_LI!$D$2:$D$1000),"") | L13: =IF(H13<>"",LOOKUP(H13,WM_LI!$A$2:$A$1000,WM_LI!$E$2:$E$1000),"") | M13: =IF(H13<>"",LOOKUP(H13,WM_LI!$A$2:$A$1000,WM_LI!$F$2:$F$1000),"") | N13: =IF(H13<>"",LOOKUP(H13,WM_LI!$A$2:$A$1000,WM_LI!$G$2:$G$1000),"") | O13: =IF(H13<>"",LOOKUP(H13,WM_LI!$A$2:$A$1000,WM_LI!$H$2:$H$1000),"") | P13: =IF(H13<>"",LOOKUP(H13,WM_LI!$A$2:$A$1000,WM_LI!$I$2:$I$1000),"") | Q13: =IF(H13<>"",LOOKUP(H13,WM_LI!$A$2:$A$1000,WM_LI!$J$2:$J$1000),"") | T13: =IF(OR(R13<>"",S13<>""),SUM((R13*P13),(S13*P13)),"")
B14: =IF(A14<>"","_TP_V","") | C14: =IF(A14<>"",C13,"") | E14: =IF(A14<>"",E13+1,"") | I14: =IF(H14<>"",LOOKUP(H14,WM_LI!$A$2:$A$1000,WM_LI!$B$2:$B$1000),"") | J14: =IF(H14<>"",LOOKUP(H14,WM_LI!$A$2:$A$1000,WM_LI!$C$2:$C$1000),"") | K14: =IF(H14<>"",LOOKUP(H14,WM_LI!$A$2:$A$1000,WM_LI!$D$2:$D$1000),"") | L14: =IF(H14<>"",LOOKUP(H14,WM_LI!$A$2:$A$1000,WM_LI!$E$2:$E$1000),"") | M14: =IF(H14<>"",LOOKUP(H14,WM_LI!$A$2:$A$1000,WM_LI!$F$2:$F$1000),"") | N14: =IF(H14<>"",LOOKUP(H14,WM_LI!$A$2:$A$1000,WM_LI!$G$2:$G$1000),"") | O14: =IF(H14<>"",LOOKUP(H14,WM_LI!$A$2:$A$1000,WM_LI!$H$2:$H$1000),"") | P14: =IF(H14<>"",LOOKUP(H14,WM_LI!$A$2:$A$1000,WM_LI!$I$2:$I$1000),"") | Q14: =IF(H14<>"",LOOKUP(H14,WM_LI!$A$2:$A$1000,WM_LI!$J$2:$J$1000),"") | T14: =IF(OR(R14<>"",S14<>""),SUM((R14*P14),(S14*P14)),"")
... B100: =IF(A100<>"","_TP_V","") | C100: =IF(A100<>"",C99,"") | E100: =IF(A100<>"",E99+1,"") | I100: =IF(H100<>"",LOOKUP(H100,WM_LI!$A$2:$A$1000,WM_LI!$B$2:$B$1000),"") | J100: =IF(H100<>"",LOOKUP(H100,WM_LI!$A$2:$A$1000,WM_LI!$C$2:$C$1000),"") | K100: =IF(H100<>"",LOOKUP(H100,WM_LI!$A$2:$A$1000,WM_LI!$D$2:$D$1000),"") | L100: =IF(H100<>"",LOOKUP(H100,WM_LI!$A$2:$A$1000,WM_LI!$E$2:$E$1000),"") | M100: =IF(H100<>"",LOOKUP(H100,WM_LI!$A$2:$A$1000,WM_LI!$F$2:$F$1000),"") | N100: =IF(H100<>"",LOOKUP(H100,WM_LI!$A$2:$A$1000,WM_LI!$G$2:$G$1000),"") | O100: =IF(H100<>"",LOOKUP(H100,WM_LI!$A$2:$A$1000,WM_LI!$H$2:$H$1000),"") | P100: =IF(H100<>"",LOOKUP(H100,WM_LI!$A$2:$A$1000,WM_LI!$I$2:$I$1000),"") | Q100: =IF(H100<>"",LOOKUP(H100,WM_LI!$A$2:$A$1000,WM_LI!$J$2:$J$1000),"") | T100: =IF(OR(R100<>"",S100<>""),SUM((R100*P100),(S100*P100)),"")
B101: =IF(A101<>"","TP","") | C101: =IF(A101<>"",C100,"") | E101: =IF(A101<>"",E100+1,"") | I101: =IF(H101<>"",LOOKUP(H101,[1]List!$C$1:$C$1001,[1]List!$D$1:$D$1001),"")
B102: =IF(A102<>"","TP","") | C102: =IF(A102<>"",C101,"") | E102: =IF(A102<>"",E101+1,"") | I102: =IF(H102<>"",LOOKUP(H102,[1]List!$C$1:$C$1001,[1]List!$D$1:$D$1001),"")
B103: =IF(A103<>"","TP","") | C103: =IF(A103<>"",C102,"") | E103: =IF(A103<>"",E102+1,"") | I103: =IF(H103<>"",LOOKUP(H103,[1]List!$C$1:$C$1001,[1]List!$D$1:$D$1001),"")
B104: =IF(A104<>"","TP","") | C104: =IF(A104<>"",C103,"") | E104: =IF(A104<>"",E103+1,"") | I104: =IF(H104<>"",LOOKUP(H104,[1]List!$C$1:$C$1001,[1]List!$D$1:$D$1001),"")
B105: =IF(A105<>"","TP","") | C105: =IF(A105<>"",C104,"") | E105: =IF(A105<>"",E104+1,"") | I105: =IF(H105<>"",LOOKUP(H105,[1]List!$C$1:$C$1001,[1]List!$D$1:$D$1001),"")
B106: =IF(A106<>"","TP","") | C106: =IF(A106<>"",C105,"") | E106: =IF(A106<>"",E105+1,"") | I106: =IF(H106<>"",LOOKUP(H106,[1]List!$C$1:$C$1001,[1]List!$D$1:$D$1001),"")
B107: =IF(A107<>"","TP","") | C107: =IF(A107<>"",C106,"") | E107: =IF(A107<>"",E106+1,"") | I107: =IF(H107<>"",LOOKUP(H107,[1]List!$C$1:$C$1001,[1]List!$D$1:$D$1001),"")
B108: =IF(A108<>"","TP","") | C108: =IF(A108<>"",C107,"") | E108: =IF(A108<>"",E107+1,"") | I108: =IF(H108<>"",LOOKUP(H108,[1]List!$C$1:$C$1001,[1]List!$D$1:$D$1001),"")
B109: =IF(A109<>"","TP","") | C109: =IF(A109<>"",C108,"") | E109: =IF(A109<>"",E108+1,"") | I109: =IF(H109<>"",LOOKUP(H109,[1]List!$C$1:$C$1001,[1]List!$D$1:$D$1001),"")
B110: =IF(A110<>"","TP","") | C110: =IF(A110<>"",C109,"") | E110: =IF(A110<>"",E109+1,"") | I110: =IF(H110<>"",LOOKUP(H110,[1]List!$C$1:$C$1001,[1]List!$D$1:$D$1001),"")
B111: =IF(A111<>"","TP","") | C111: =IF(A111<>"",C110,"") | E111: =IF(A111<>"",E110+1,"") | I111: =IF(H111<>"",LOOKUP(H111,[1]List!$C$1:$C$1001,[1]List!$D$1:$D$1001),"")
B112: =IF(A112<>"","TP","") | C112: =IF(A112<>"",C111,"") | E112: =IF(A112<>"",E111+1,"") | I112: =IF(H112<>"",LOOKUP(H112,[1]List!$C$1:$C$1001,[1]List!$D$1:$D$1001),"")
... B2000: =IF(A2000<>"","TP","") | C2000: =IF(A2000<>"",C1999,"") | E2000: =IF(A2000<>"",E1999+1,"") | I2000: =IF(H2000<>"",LOOKUP(H2000,[1]List!$C$1:$C$1001,[1]List!$D$1:$D$1001),"")

Sheet P
A1: bestaande paal
A2: bestaande uitkraging
A3: nieuwe uitkraging
A4: OV-paal
A5: verkeerslicht
A6: elektriciteitspaal
A7: bovenleidingspaal
A8: paal n.g.
A9: muur
A10: portaal
A11: galgpaal
A12: Paal 51 x 2000mm - RAL 2009
... A118: Paal - lengte en diameter te bepalen ifv grootte bord

Sheet SIGN
A1: A1a
A2: A1b
A3: A1c
A4: A1d
A5: A3
A6: A5
A7: A7a
A8: A7b
A9: A7c
A10: A9
A11: A11
A12: A13
... A262: M20

Sheet AFM
A1: 100 x 400 | D1: rijrichting | G1: links | J1: herplaatsen
A2: 300 | D2: as | G2: rechts | J2: nieuw te plaatsen
A3: 400 | D3: tegenrichting | G3: omhoog | J3: richten
A4: 200 x 250 | D4: buitenkant | G4: omlaag | J4: verwijderen
A5: 225 x 225 | G5: 45° linksboven | J5: zichtbaar maken
A6: 300 x 450 | G6: 45° linksonder
A7: 400 x 200 | G7: 45° rechtsboven
A8: 400 x 300 | G8: 45° rechtsonder
A9: 400 x 400
A10: 400 x 600
A11: 400 x 800
A12: 450 x 200
A13: 450 x 300
A14: 600
A15: 600 x 200
A16: 600 x 300
A17: 600 x 400
A18: 600 x 600
A19: 600 x 900
A20: 700
A21: 700 x 200
A22: 700 x 400
A23: 700 x 700
A24: 900
A25: 800 x 400
A26: 900 x 300
A27: 900 x 600
A28: 900 x 700
A29: 900 x 900
A30: 900 x 1300
A31: 1100
A32: 1100 x 700
A33: 1100 x 300
A34: 1200 x 150
A35: 1200 x 400
A36: 1200 x 1800
A37: 1300 x 900
A38: 1300 x 1100
A39: 1300 x 1300
A40: 1700 x 1100
A41: 1750 x 2000
A42: 1900 x 900
A43: 2000 x 1350
... A49: Volgens ontwerp

Sheet WM_LI
A1: ID | B1: ITEM | C1: Lengte | D1: Lijndikte | E1: Hiaat | F1: hoogte | G1: breedte | H1: eenheid | I1: netto | J1: eenheid
A2: 1 | B2: werkelijke rand van de rijbaan | D2: 0.15 | H2: lm | I2: 0.15 | J2: m²
A3: 2 | B3: denkbeeldige rand van de rijbaan | D3: 0.2 | H3: lm | I3: 0.2 | J3: m²
A4: 3 | B4: denkbeeldige rand van de rijbaan | D4: 0.25 | H4: lm | I4: 0.25 | J4: m²
A5: 4 | B5: doorlopende streep | D5: 0.15 | H5: lm | I5: 0.15 | J5: m²
A6: 5 | B6: onderbroken streep | C6: 2.5 | D6: 0.15 | E6: 10 | H6: lm | I6: 0.03 | J6: m²
A7: 6 | B7: naderingsmarkering | C7: 1 | D7: 0.15 | E7: 1.5 | H7: lm | I7: 0.06 | J7: m²
A8: 7
A9: 8
A10: 9
A11: 10 | B11: afbakening busstrook | C11: 2.5 | D11: 0.3 | E11: 1 | H11: lm | I11: 0.21 | J11: m²
A12: 11 | B12: afbakening bijzondere overrijdbare bedding | D12: 0.2 | H12: lm | I12: 0.2 | J12: m²
A13: 12 | B13: dambordmarkering | F13: 0.5 | G13: 0.5 | H13: st | I13: 0.25 | J13: m²
A14: 13 | B14: tekst "BUS" | F14: 1.4 | G14: 2.5 | H14: st | I14: 1.4 | J14: m²
A15: 14 | B15: tekst "TRAM"
A16: 15 | B16: tekst "TAXI"
A17: 16 | B17: Busstrook symbool woon-werkverkeer | F17: 1.5 | G17: 1.5 | H17: st | I17: 0.93 | J17: m²
A18: 17 | B18: Busstrook symbool autobus | F18: 0.54 | G18: 1.5 | H18: st | I18: 0.959 | J18: m²
A19: 18 | B19: Busstrook symbool bromfiets groot | F19: 1.53 | G19: 0.9 | H19: st | I19: 1.728 | J19: m²
A20: 19 | B20: Busstrook symbool bromfiets klein | F20: 0.765 | G20: 0.45 | H20: st | I20: 0.147 | J20: m²
A21: 20 | B21: Bushalte letters BUS | F21: 2 | H21: st | I21: 4.891 | J21: m²
A22: 21 | B22: Standaard bushalte 30m met bushaltemarkering - 2,80m breed | I22: 18.155 | J22: m²
A23: 22 | B23: Standaard bushalte 30m met bushaltemarkering - 3,00m breed | I23: 18.534 | J23: m²
A24: 23 | B24: Verlengde bushalte 45m met bushaltemarkering - 2,50m breed | I24: 26.346 | J24: m²
A25: 24 | B25: Verlengde bushalte 45m met bushaltemarkering - 3,00m breed | I25: 26.725 | J25: m²
A26: 25
A27: 26
A28: 27
A29: 28
A30: 29
A31: 30 | B31: verkeersgeleider - arcering standaard | D31: 0.4 | E31: 0.6 | H31: m² | I31: 0.4 | J31: m²
A32: 31 | B32: verkeersgeleider - arcering groot | D32: 1 | E32: 2 | H32: m² | I32: 0.333 | J32: m²
A33: 32 | B33: verdrijvingsvlak - arcering standaard | D33: 0.4 | E33: 0.6 | H33: m² | I33: 0.4
A34: 33 | B34: verdrijvingsvlak - arcering groot | D34: 1 | E34: 2 | H34: m² | I34: 0.333 | J34: m²
A35: 34 | B35: verkeersgeleider - verdrijvingsvlak randmarkering | D35: 0.15 | H35: lm | I35: 0.15 | J35: m²
A36: 35
A37: 36
A38: 37
A39: 38
A40: 39
A41: 40 | B41: oversteekplaats voor voetgangers standaard | F41: 0.5 | G41: 3 | H41: st | I41: 1.5 | J41: m²
A42: 41 | B42: oversteekplaats voor voetgangers 70 | F42: 0.5 | G42: 4 | H42: st | I42: 2 | J42: m²
A43: 42 | B43: oversteekplaats voor voetgangers 6m | F43: 0.5 | G43: 6 | H43: st | I43: 3 | J43: m²
A44: 43 | B44: oversteekplaats voor voetgangers 9m | F44: 0.5 | G44: 9 | H44: st | I44: 4.5 | J44: m²
A45: 44 | B45: symbool voetganger groot | F45: 1.6 | G45: 0.8 | H45: st | I45: 0.4733 | J45: m²
A46: 45 | B46: symbool voetganger klein | F46: 0.8 | G46: 0.4 | H46: st | I46: 0.1183 | J46: m²
A47: 46
A48: 47
A49: 48
A50: 49
A51: 50 | B51: dwarsstreep begin / einde parkeerstrook | D51: 0.15 | H51: lm | I51: 0.15 | J51: m2
A52: 51 | B52: dwarsstreep scheiding parkeerplaatsen | D52: 0.1 | H52: lm | I52: 0.1 | J52: m²
A53: 52 | B53: werkelijke rand van de rijbaan - onderbroken gele streep | C53: 1 | D53: 0.15 | E53: 1 | H53: lm | I53: 0.075 | J53: m²
A54: 53
A55: 54
A56: 55
A57: 56
A58: 57
A59: 58
A60: 59
A61: 60 | B61: stopstreep | D61: 0.5 | H61: lm | I61: 0.5 | J61: m²
A62: 61 | B62: streep gevormd door witte driehoeken | F62: 70 | G62: 50 | H62: st | I62: 0.175 | J62: m²
A63: 62 | B63: reproductie B17
A64: 63 | B64: reproductie B1 | F64: 3.5 | G64: 1.75 | H64: st | I64: 2.206 | J64: m²
A65: 64 | B65: tekst "STOP" | F65: 4 | G65: 2 | H65: st | I65: 3.087 | J65: m²
A66: 65 | B66: tekst "STOP" schuin | F66: 4 | G66: 2.1 | H66: st | I66: 3.087 | J66: m²
A67: 66 | B67: afremmingsstreep | D67: 0.5 | H67: lm | I67: 0.5 | J67: m²
A68: 67
A69: 68
A70: 69
A71: 70 | B71: Voorsorteringspijl type A | H71: st | I71: 1.211 | J71: m²
A72: 71 | B72: Voorsorteringspijl type B1 | H72: st | I72: 2.187 | J72: m²
A73: 72 | B73: Voorsorteringspijl type B2 | H73: st | I73: 2.187 | J73: m²
A74: 73 | B74: Voorsorteringspijl type C1 | H74: st | I74: 1.504 | J74: m²
A75: 74 | B75: Voorsorteringspijl type C2 | H75: st | I75: 1.504 | J75: m²
A76: 75 | B76: Voorsorteringspijl type C3 | H76: st | I76: 1.631 | J76: m²
A77: 76 | B77: Voorsorteringspijl type C4 | H77: st | I77: 1.631 | J77: m²
A78: 77 | B78: Voorsorteringspijl type D | H78: st | I78: 2.489 | J78: m²
A79: 78 | B79: Voorsorteringspijl type E | H79: st | I79: 3.162 | J79: m²
A80: 79 | B80: Voorsorteringspijl type F1 | H80: st | I80: 2.276 | J80: m²
A81: 80 | B81: Voorsorteringspijl type F2 | H81: st | I81: 1.732 | J81: m²
A82: 81 | B82: Voorsorteringspijl type F3 | H82: st | I82: 1.844 | J82: m²
... A98: 97 | B98: Rijstrookverminderingspijl type G2 | H98: st | I98: 4.185 | J98: m²
A99: 98
A100: 99
A101: 100 | B101: fietspad | C101: 1.25 | D101: 0.15 | E101: 1.25 | H101: lm | I101: 0.075 | J101: m²
A102: 101 | B102: randmarkering fietspad breed | D102: 0.1 | H102: lm | I102: 0.1 | J102: m²
A103: 102 | B103: randmarkering fietspad smal | D103: 0.05 | H103: lm | I103: 0.05 | J103: m²
A104: 103 | B104: asmarkering fietspad doorlopend | D104: 0.1 | H104: lm | I104: 0.1 | J104: m²
A105: 104 | B105: asmarkering fietspad onderbroken | C105: 0.3 | D105: 0.1 | E105: 2.7 | H105: lm | I105: 0.01 | J105: m²
A106: 105 | B106: asmarkering fietspad onderbroken bocht | C106: 2.7 | D106: 0.1 | E106: 0.3 | H106: lm | I106: 0.09 | J106: m²
A107: 106 | B107: rode aslijn fietszone | D107: 0.3 | H107: lm | I107: 0.3 | J107: m²
A108: 107 | B108: rood grondvlak | H108: m² | I108: 1 | J108: m²
A109: 108 | B109: fietssuggestiestrook | H109: m³ | I109: 1 | J109: m²
A110: 109
A111: 110 | B111: oversteekplaats voor fietsers | F111: 0.5 | G111: 0.5 | H111: st | I111: 0.25 | J111: m²
A112: 111 | B112: verbindingsmarkering | C112: 0.15 | D112: 0.15 | E112: 0.3 | F112: 0.15 | G112: 0.15 | H112: lm | I112: 0.06 | J112: m²
A113: 112 | B113: logo fiets groot | F113: 1.53 | G113: 0.9 | H113: st | I113: 0.496 | J113: m²
A114: 113 | B114: logo fiets klein | F114: 0.765 | G114: 0.45 | H114: st | I114: 0.124 | J114: m²
A115: 114 | B115: dubbele pijl fiets | F115: 1.5 | G115: 1 | H115: st | I115: 0.295 | J115: m²
...
