Workbook

Sheet Luik A
A1: HET FINANCIËLE GEDEELTE VAN DE JAARREKENING
A3: Bestuur: | C3: H. BERNARDUS | G3: Opgemaakt: | H3: 10/01/2024
A4: Gemeente: | C4: PEPINGEN
A5: REKENING: | C5: 2023
B7: Het invullen van de cijfers gebeurt eerst in het luik B en voor de rekeningen 100 en 200 tot 202 in de eredienstafhankelijke tabbladen. De totalen per hoofdfunctie worden dan automatisch overgenomen in dit overzicht. Enkel de gele velden dienen ingevuld te worden.
A10: 0. Overschot/tekort | I10: 7076
A12: Overschot/tekort exploitatie | D12: code | E12: ontvangsten | F12: code | G12: uitgaven | H12: code | I12: overschot/tekort
A13: A eredienst | D13: 10 | E13: 134.81 | F13: 20 | G13: ='Luik B'!$H$44 -> 344 | H13: 10-20 | I13: =E26-G13 -> -344
A14: B gebouwen van de eredienst | D14: 11 | E14: ='Luik B'!$H$14 -> 17270.02 | F14: 21 | G14: ='Luik B'!$H$79 -> 24318.81 | H14: 11-21 | I14: =E14-G14 -> -7048.79
A15: C bestuur van de eredienst | D15: 12 | E15: ='Luik B'!$H$21 -> 0 | F15: 22 | G15: ='Luik B'!$H$114 -> 1653.26 | H15: 12-22 | I15: =E15-G15 -> -1653.26
A16: D privaat patrimonium | D16: 13 | E16: ='Luik B'!$H$27 -> 14696.46 | F16: 23 | G16: ='Luik B'!$H$142 -> 612.36 | H16: 13-23 | I16: =E16-G16 -> 14084.1
A17: E stichtingen | D17: 14 | E17: ='Luik B'!$H$35 -> 0 | F17: 24 | G17: ='Luik B'!$H$153 -> 0 | H17: 14-24 | I17: =E17-G17 -> 0
A18: F expl. zonder financiering | D18: 10/14 | E18: =SUM(E13:E17) -> 32101.29 | F18: 20/24 | G18: =SUM(G13:G17) -> 26928.43 | H18: 10,07 | I18: =SUM(I13:I17) -> 5038.05
A19: G financiering | D19: 15 | E19: ='Luik B'!$H$37 -> 0 | F19: 25 | G19: ='Luik B'!$H$155 -> 0 | H19: 15-25 | I19: =E19-G19 -> 0
A20: H expl.voor overboekingen | D20: 10/12 | E20: =SUM(E18:E19) -> 32101.29 | F20: 20/25 | G20: =SUM(G18:G19) -> 26928.43 | H20: 101,6 | I20: =SUM(I18:I19) -> 5038.05
A21: I overboekingen | H21: 198,05 | I21: =0-'Luik B'!$H$160 -> 0
A22: J exploitatie eigen fin. boekjaar | H22: H+I | I22: =I20+I21 -> 5038.05
A23: K overschot/tekort expl. n-1 | H23: expl. n-1 | I23: 8652.98
A24: L exploitatie voor toelage | H24: J+K | I24: =I22+I23 -> 13691.03
A25: M exploitatietoelage | H25: 9 | I25: ='Luik B'!$H$162 -> 0
B26: M1 gewone exploitatietoelage | H26: 900 | I26: 0
B27: M2 achterstallige exploitatietoelagen | H27: 901 | I27: ='Luik B'!$H$165 -> 0
A28: N overschot/tekort expl. | H28: L+M | I28: =I24+I25 -> 13691.03
A31: Overschot/tekort investeringen | D31: code | E31: ontvangsten | F31: code | G31: uitaven | H31: Code | I31: Overschot/tekort
A32: O eredienst | D32: 30 | E32: ='Luik B'!$H$169 -> 0 | F32: 40 | G32: ='Luik B'!$H$220 -> 0 | H32: 30-40 | I32: =E32-G32 -> 0
A33: P gebouwen van de eredienst | D33: 31 | E33: ='Luik B'!$H$175 -> 0 | F33: 41 | G33: ='Luik B'!$H$225 -> 0 | H33: 31-41 | I33: =E33-G33 -> 0
A34: Q bestuur van de eredienst | D34: 32 | E34: ='Luik B'!$H$194 -> 0 | F34: 42 | G34: ='Luik B'!$H$241 -> 0 | H34: 32-42
A35: R privaat patrimonium | D35: 33 | E35: ='Luik B'!$H$200 -> 0 | F35: 43 | G35: ='Luik B'!$H$244 -> 0 | H35: 33-43
A36: S stichtingen | D36: 34 | E36: ='Luik B'!$H$209 -> 0 | F36: 44 | G36: ='Luik B'!$H$253 -> 0 | H36: 34-44
A37: T invest. zonder financiering | D37: 30/34 | E37: 0 | F37: 40/44 | G37: 0 | H37: O tot S
A38: U financiering | D38: 35 | E38: ='Luik B'!$H$212 -> 0 | F38: 45 | G38: ='Luik B'!$H$255 -> 0 | H38: 35-45 | I38: =E38-G38 -> 0
A39: V invest. voor overboekingen | D39: 30/35 | E39: 0 | F39: 40/45 | G39: 0 | H39: T+U | I39: =SUM(I37:I38) -> 0
A40: W overboekingen | H40: 39 | I40: ='Luik B'!$H$216 -> 0
A41: X investeringen eigen fin. boekjaar | H41: V+W | I41: =I39+I40 -> 0
A42: Y overschot/tekort invest. n-1 | H42: invest n-1 | I42: 0
A43: Z overschot/tekort invest. | H43: X+Y | I43: =I41+I42 -> 0

Sheet Luik B
B2: De in te vullen velden zijn met geel gemarkeerd,
B3: De andere velden worden automatisch berekend. | F3: rekening | G3: budget | H3: Rekening
F4: 2022 | G4: 2023 | H4: 2023
A5: 1. Exploitatieontvangsten | F5: =SUM(F7,F14,F21,F27,F35,F37) -> 26654.99 | G5: =SUM(G7,G14,G21,G27,G35,G37) -> 24895.9 | H5: =SUM(H7,H14,H21,H27,H35,H37) -> 32101.29
B7: 10 Eredienst | F7: =SUM(F8:F13) -> 228.99 | G7: =SUM(G8:G13) -> 25 | H7: =SUM(H8:H13) -> 134.81
C8: 100 ontvangsten van vieringen | F8: =('100, 200-202 Kath.'!$F$7)+('100, 200-202 Orth.'!$F$7)+('100, 200-202 Islam'!$F$7) -> 228.99 | G8: =('100, 200-202 Kath.'!$G$7)+('100, 200-202 Orth.'!$G$7)+('100, 200-202 Islam'!$G$7) -> 25 | H8: =('100, 200-202 Kath.'!$H$7)+('100, 200-202 Orth.'!$H$7)+('100, 200-202 Islam'!$H$7) -> 134.81
C9: 1000 * | J9: De gegevens voor de velden aangeduid met een * dienen ingevuld
C10: … * | J10: te worden in de eredienstafhankelijke tabbladen "100, 200-202…".
C11: 1009 *
C12: 108 creditnota's | F12: 0 | G12: 0 | H12: 0
C13: 109 andere | F13: 0 | G13: 0 | H13: 0
B14: 11 Gebouw(en) van de eredienst | F14: =SUM(F15:F20) -> 14374.35 | G14: =SUM(G15:G20) -> 14312.78 | H14: =SUM(H15:H20) -> 17270.02
C15: 110 Huur Arnoes receptie | F15: 0 | G15: 0 | H15: 350
C16: 111 Antenne Orange | F16: 6798.32 | G16: 6798.32 | H16: 7491.14
C17: 112 Antenne Base | F17: 6771.37 | G17: 6771.37 | H17: 7520.96
C18: 113 Vergoeding Fanfare | F18: 0 | G18: 0 | H18: 0
C19: 118 Subsidie VL Brabant | F19: 0 | G19: 0 | H19: 0
C20: 119 Jejo Wines | F20: 804.66 | G20: 743.09 | H20: 1907.92
B21: 12 Bestuur van de eredienst | F21: =SUM(F22:F26) -> 606.93 | G21: =SUM(G22:G26) -> 0 | H21: =SUM(H22:H26) -> 0
C22: 120 Afrekening Luminus 2021 | F22: 606.93 | G22: 0 | H22: 0
C23: 121 netto-intresten | F23: 0 | G23: 0 | H23: 0
C24: 122 terugbetaling door Centraal Bestuur | F24: 0 | G24: 0 | H24: 0
C25: 128 creditnota's | F25: 0 | G25: 0 | H25: 0
C26: 129 andere | F26: 0 | G26: 0 | H26: 0
B27: 13 Privaat patrimonium | F27: =SUM(F28:F34) -> 11444.72 | G27: =SUM(G28:G34) -> 10558.12 | H27: =SUM(H28:H34) -> 14696.46
C28: 130 Pachten grond | F28: 3043.08 | G28: 3043.11 | H28: 3387.79
C29: 131 Huur pastorij : Tussenkomst kosten opvang vluchtelingen | F29: 7487.7 | G29: 7487.7 | H29: 11286.36
C30: 132 jachtrechten | F30: 22.31 | G30: 22.31 | H30: 22.31
C31: 133 netto-intresten investeringsbeleggingen | F31: 0 | G31: 5 | H31: 0
C32: 134 Rente staatsfonds | F32: 0 | G32: 0 | H32: 0
C33: 138 Tussenkomst schadeverzekeringen | F33: 891.63 | G33: 0 | H33: 0
C34: 139 andere | G34: 0 | H34: 0
B35: 14 Stichtingen | F35: 0 | G35: =SUM(G36) -> 0 | H35: =SUM(H36) -> 0
C36: 140 ontvangsten uit stichtingen | F36: 0 | G36: 0 | H36: 0
B37: 15 Financiering | F37: =SUM(F38:F40) -> 0 | G37: =SUM(G38:G40) -> 0 | H37: =SUM(H38:H40) -> 0
C38: 150 renteloze thesaurievoorschotten | F38: 0 | G38: 0 | H38: 0
C39: 151 verdiscontering exploitatietoelage | F39: 0 | G39: 0 | H39: 0
C40: 159 Tussenkomst verzekering KBC | F40: 0 | G40: 0 | H40: 0
A42: 2. Exploitatie-uitgaven | F42: =SUM(F44,F79,F114,F142,F153,F155,F160) -> 24849.89 | G42: =SUM(G44,G79,G114,G142,G153,G155,G160) -> 30262.26 | H42: =SUM(H44,H79,H114,H142,H153,H155,H160) -> 26928.43
B44: 20 Eredienst | F44: =SUM(F45,F49,F53,F57,F58,F64,F71,F77,F78) -> 634.5 | G44: =SUM(G45,G49,G53,G57,G58,G64,G71,G77,G78) -> 452 | H44: =SUM(H45,H49,H53,H57,H58,H64,H71,H77,H78) -> 344
C45: 200 verbruiksgoederen eredienst | F45: =('100, 200-202 Kath.'!$F$17)+('100, 200-202 Orth.'!$F$17)+('100, 200-202 Islam'!$F$17) -> 28 | G45: =('100, 200-202 Kath.'!$G$17)+('100, 200-202 Orth.'!$G$17)+('100, 200-202 Islam'!$G$17) -> 100 | H45: =('100, 200-202 Kath.'!$H$17)+('100, 200-202 Orth.'!$H$17)+('100, 200-202 Islam'!$H$17) -> 344
D46: 2000 * | J46: De gegevens voor de velden aangeduid met een * dienen ingevuld
D47: … * | J47: te worden in de eredienstafhankelijke tabbladen "100, 200-202…".
D48: 2009 *
C49: 201 aankoop materieel voor de eredienst | F49: =('100, 200-202 Kath.'!$F$26)+('100, 200-202 Orth.'!$F$26)+('100, 200-202 Islam'!$F$26) -> 534.5 | G49: =('100, 200-202 Kath.'!$G$26)+('100, 200-202 Orth.'!$G$26)+('100, 200-202 Islam'!$G$26) -> 100 | H49: =('100, 200-202 Kath.'!$H$26)+('100, 200-202 Orth.'!$H$26)+('100, 200-202 Islam'!$H$26) -> 0
D50: 2010 *
D51: … *
D52: 2019 *
C53: 202 onderhoud materieel voor de eredienst | F53: =('100, 200-202 Kath.'!$F$34)+('100, 200-202 Orth.'!$F$34)+('100, 200-202 Islam'!$F$34) -> 0 | G53: =('100, 200-202 Kath.'!$G$34)+('100, 200-202 Orth.'!$G$34)+('100, 200-202 Islam'!$G$34) -> 100 | H53: =('100, 200-202 Kath.'!$H$34)+('100, 200-202 Orth.'!$H$34)+('100, 200-202 Islam'!$H$34) -> 0
D54: 2020
D55: …
D56: 2029
C57: 203 auteursrechten | D57: Sabam | F57: 72 | G57: 80
C58: 204 bezoldigingen en sociale lasten | F58: =SUM(F59:F63) -> 0 | G58: =SUM(G59:G63) -> 0 | H58: =SUM(H59:H63) -> 0
D59: 2040-2042 nettolonen, eindejaarspremie, vakantiegeld | F59: 0 | G59: 0 | H59: 0
D60: 2043-2045 sociale lasten | F60: 0 | G60: 0 | H60: 0
D61: 2046 vergoedingen aan personeel | F61: 0 | G61: 0 | H61: 0
D62: 2047 bedrijfsgeneeskundige dienst | F62: 0 | G62: 0 | H62: 0
D63: 2049 andere personeelsuitgaven | F63: 0 | G63: 0 | H63: 0
C64: 205 vergoedingen | F64: =F66 -> 0 | G64: =SUM(G65:G70) -> 0 | H64: 0
D65: 2050 vergoedingen aan vrijwilligers | F65: 0 | G65: 0 | H65: 0
D66: 2051 prestatievergoedingen | F66: 0 | G66: 0 | H66: 0
D67: 2052 kilometervergoeding bedienaar van de eredienst | F67: 0 | G67: 0 | H67: 0
D68: 2053 vergoedingen andere bedienaars | F68: 0 | G68: 0 | H68: 0
D69: 2054 bijwedde bedienaar van de eredienst | F69: 0 | G69: 0 | H69: 0
D70: 2059 andere vergoedingen | F70: 0 | G70: 0 | H70: 0
C71: 206 verzekeringen | F71: =SUM(F72:F76) -> 0 | G71: =SUM(G72:G76) -> 72 | H71: =SUM(H72:H76) -> 0
D72: 2060 verzekering arbeidsongevallen | F72: 0 | G72: 0 | H72: 0
D73: 2061 verzekering vrijwilligers | F73: 0 | G73: 0 | H73: 0
D74: 2062 andere personeelsverzekeringen | F74: 0 | G74: 72 | H74: 0
D75: 2063 verzekering BA | F75: 0 | G75: 0 | H75: 0
D76: 2069 andere verzekeringen eredienst | F76: 0 | G76: 0 | H76: 0
C77: 207 intresten van leningen | D77: Kosten rekening bank | F77: 0 | G77: 0 | H77: 0
C78: 209 Gestichte missen | D78: Gestichte missen | F78: 0 | G78: 0 | H78: 0
B79: 21 Gebouw(en) van de eredienst | F79: =SUM(F80,F88,F96,F101,F107,F108,F112,F113) -> 22257.46 | G79: =SUM(G80,G88,G96,G101,G107,G108,G112,G113) -> 25280.26 | H79: =SUM(H80,H88,H96,H101,H107,H108,H112,H113) -> 24318.81
C80: 210 hoofdgebouw eredienst | F80: =SUM(F81:F87) -> 8608.2 | G80: =SUM(G81:G87) -> 12980 | H80: =SUM(H81:H87) -> 11515.37
D81: 2100 Verwarming | F81: 3450.01 | G81: 4000 | H81: 2733.7
D82: 2101 Water | F82: 480.6 | G82: 500 | H82: 138.02
D83: 2102 schoonmaken + versiering | F83: 0 | G83: 500 | H83: 0
D84: 2103 onderhoud | F84: 1514.25 | G84: 5000 | H84: 5470.16
D85: 2104 verzekeringen | F85: 2194.21 | G85: 2400 | H85: 2427.39
D86: 2105 monumentenzorg, inspecties en bewaking | F86: 585 | G86: 80 | H86: 80
D87: 2109 Pbe | F87: 384.13 | G87: 500 | H87: 666.1
C88: 211 andere gebouwen eredienst | F88: =SUM(F89:F95) -> 0 | G88: =SUM(G89:G95) -> 0 | H88: =SUM(H89:H95) -> 0
D89: 2110 huur en gebruiksvergoeding | F89: 0 | G89: 0 | H89: 0
D90: 2111 nutsvoorzieningen | F90: 0 | G90: 0 | H90: 0
D91: 2112 schoonmaken | F91: 0 | G91: 0 | H91: 0
D92: 2113 onderhoud | F92: 0 | G92: 0 | H92: 0
D93: 2114 verzekeringen | F93: 0 | G93: 0 | H93: 0
D94: 2115 monumentenzorg, inspecties en bewaking | F94: 0 | G94: 0 | H94: 0
D95: 2119 andere | F95: 0 | G95: 0 | H95: 0
C96: 212 woning bedienaar eredienst | F96: =SUM(F97:F100) -> 9988.58 | G96: =SUM(G97:G100) -> 7160.26 | H96: =SUM(H97:H100) -> 3315.17
D97: 2120 onderhoud | F97: 6533.98 | G97: 5000 | H97: 2537.56
D98: 2121 verzekeringen | F98: 704.13 | G98: 660.26 | H98: 777.61
D99: 2122 monumentenzorg, inspecties en bewaking | F99: 80 | G99: 0 | H99: 0
D100: 2129 onderhoud tuin | F100: 2670.47 | G100: 1500 | H100: 0
C101: 213 Kosten opvang oekraiense vluchtelingen | F101: =SUM(F102:F106) -> 3532.37 | G101: =SUM(G102:G106) -> 5000 | H101: =SUM(H102:H106) -> 9357.04
D102: 2130-2132 nettolonen, eindejaarspremie, vakantiegeld | F102: 0 | G102: 0 | H102: 0
D103: 2133-2135 watergroep | F103: 0 | G103: 0 | H103: 2411.17
D104: 2136 Kosten verwarming | F104: 2914.94 | G104: 4000 | H104: 4338.11
...

Sheet 100, 200-202 Orth.
B2: De in te vullen velden zijn met geel gemarkeerd,
B3: De andere velden worden automatisch berekend. | F3: rekening | G3: budget | H3: rekening
F4: (jaar n-1) | G4: (jaar n) | H4: (jaar n)
B5: Orthodoxe kerkfabrieken
C7: 100 ontvangsten van vieringen | F7: =SUM(F8:F11) -> 0 | G7: =SUM(G8:G11) -> 0 | H7: =SUM(H8:H11) -> 0
D8: 1000 Geldinzameling, storting, giften | F8: 0 | G8: 0 | H8: 0
D9: 1001 Opbrengsten van privédiensten | F9: 0 | G9: 0 | H9: 0
D10: 1002 Opbrengsten van het kerkhof | F10: 0 | G10: 0 | H10: 0
D11: 1009 Andere ontvangsten van vieringen | F11: 0 | G11: 0 | H11: 0
C17: 200 verbruiksgoederen eredienst | F17: =SUM(F18:F24) -> 0 | G17: =SUM(G18:G24) -> 0 | H17: =SUM(H18:H24) -> 0
D18: 2000 Liturgisch brood | F18: 0 | G18: 0 | H18: 0
D19: 2001 Liturgische wijn | F19: 0 | G19: 0 | H19: 0
D20: 2002 Kaarsen en waaklichtjes | F20: 0 | G20: 0 | H20: 0
D21: 2003 Olie | F21: 0 | G21: 0 | H21: 0
D22: 2004 Kooltjes en wierook | F22: 0 | G22: 0 | H22: 0
D23: 2005 Versiering | F23: 0 | G23: 0 | H23: 0
D24: 2009 Overige verbruiksgoederen eredienst | F24: 0 | G24: 0 | H24: 0
C26: 201 aankoop materieel voor de eredienst | F26: =SUM(F27:F32) -> 0 | G26: =SUM(G27:G32) -> 0 | H26: =SUM(H27:H32) -> 0
D27: 2010 Aankoop van kerkgewaden en gewijde vaten | F27: 0 | G27: 0 | H27: 0
D28: 2011 Aankoop van altaarlinnen | F28: 0 | G28: 0 | H28: 0
D29: 2012 Aankoop van kerk- en sacristiemeubelen en -gerief | F29: 0 | G29: 0 | H29: 0
D30: 2013 Aankoop van liturgische tijdschriften, boeken en muziek | F30: 0 | G30: 0 | H30: 0
D31: 2014 Aankoop van geluids- en beeldweergave-installatie | F31: 0 | G31: 0 | H31: 0
D32: 2019 Andere aankopen van materieel voor de eredienst | F32: 0 | G32: 0 | H32: 0
C34: 202 onderhoud materieel voor de eredienst | F34: =SUM(F35:F39) -> 0 | G34: =SUM(G35:G39) -> 0 | H34: =SUM(H35:H39) -> 0
D35: 2020 Onderhoud van de kerkgewaden | F35: 0 | G35: 0 | H35: 0
D36: 2021 Onderhoud van het linnen | F36: 0 | G36: 0 | H36: 0
D37: 2022 Onderhoud van de liturgische vaten | F37: 0 | G37: 0 | H37: 0
D38: 2023 Onderhoud van de liturgische boeken | F38: 0 | G38: 0 | H38: 0
D39: 2029 Ander onderhoud van materieel van de eredienst | F39: 0 | G39: 0 | H39: 0

Sheet 100, 200-202 Kath.
B2: De in te vullen velden zijn met geel gemarkeerd,
B3: De andere velden worden automatisch berekend. | F3: Rekening | G3: budget | H3: Rekening
F4: 2022 | G4: 2023 | H4: 2023
B5: Katholieke kerkfabrieken
C7: 100 ontvangsten van vieringen | F7: =SUM(F8:F15) -> 228.99 | G7: =SUM(G8:G15) -> 25 | H7: =SUM(H8:H15) -> 134.81
D8: 1000 Stoelgeld | F8: 0 | G8: 0 | H8: 0
D9: 1001 Omhalingen | F9: 0 | G9: 0 | H9: 0
D10: 1002 Rechten kerkfabriek bij begrafenissen + omhaling | F10: 228.99 | G10: 25 | H10: 134.81
D11: 1003 Rechten kerkfabriek bij huwelijken | F11: 0 | G11: 0 | H11: 0
D12: 1004 Rechten kerkfabriek bij andere diensten | F12: 0 | G12: 0 | H12: 0
D13: 1005 Casueel koster-organist | F13: 0 | G13: 0 | H13: 0
D14: 1006 verkoop liturgische voorwerpen | F14: 0 | G14: 0 | H14: 0
D15: 1009 Andere ontvangsten van vieringen | F15: 0 | G15: 0 | H15: 0
C17: 200 verbruiksgoederen eredienst | F17: =SUM(F18:F24) -> 28 | G17: =SUM(G18:G24) -> 100 | H17: =SUM(H18:H24) -> 344
D18: 2000 Hosties | F18: 0 | G18: 25 | H18: 0
D19: 2001 Miswijn | F19: 0 | G19: 0 | H19: 0
D20: 2002 Was, wierook en kaarsen | F20: 0 | G20: 0 | H20: 0
D21: 2003 Versieringen + Kuisen kerk Pa ploeg | F21: 0 | G21: 47 | H21: 250
D22: 2004 Heilige oliën | F22: 0 | G22: 0 | H22: 0
D23: 2005 Drukwerk vieringen | F23: 28 | G23: 28 | H23: 94
D24: 2009 Overige verbruiksgoederen eredienst | F24: 0 | G24: 0 | H24: 0
C26: 201 aankoop materieel voor de eredienst | F26: =SUM(F27:F32) -> 534.5 | G26: =SUM(G27:G32) -> 100 | H26: =SUM(H27:H32) -> 0
D27: 2010 Aankoop van kerkgewaden en gewijde vaten | F27: 0 | G27: 0 | H27: 0
D28: 2011 Aankoop van altaarlinnen | F28: 0 | G28: 0 | H28: 0
D29: 2012 Aankoop van kerk- en sacristiemeubelen en -gerief | F29: 0 | G29: 0 | H29: 0
D30: 2013 Aankoop van liturgische tijdschriften, boeken en muziek | F30: 75.5 | G30: 100 | H30: 0
D31: 2014 Aankoop van infobord | F31: 439 | G31: 0 | H31: 0
D32: 2019 Andere aankopen van materieel voor de eredienst | F32: 20 | G32: 0 | H32: 0
C34: 202 onderhoud materieel voor de eredienst | F34: =SUM(F35:F39) -> 0 | G34: 100 | H34: =SUM(H35:H39) -> 0
D35: 2020 Onderhoud van kerkgewaden en gewijde vaten | F35: 0 | G35: 0 | H35: 0
D36: 2021 Onderhoud van altaarlinnen | F36: 0 | G36: 0 | H36: 0
D37: 2022 Onderhoud van kerk- en sacristiemeubelen en -gerief | F37: 0 | G37: 0 | H37: 0
D38: 2023 Onderhoud van geluids- en beeldweergave-installatie | F38: 0 | G38: 0 | H38: 0
D39: 2029 Ander onderhoud van materieel van de eredienst | F39: 0 | G39: 100 | H39: 0

Sheet Blad1

Sheet 100, 200-202 Islam
B2: De in te vullen velden zijn met geel gemarkeerd,
B3: De andere velden worden automatisch berekend. | F3: rekening | G3: budget | H3: rekening
F4: (jaar n-1) | G4: (jaar n) | H4: (jaar n)
B5: Islamitische gemeenschappen
C7: 100 ontvangsten van vieringen | F7: =SUM(F8:F10) -> 0 | G7: =SUM(G8:G10) -> 0 | H7: =SUM(H8:H10) -> 0
D8: 1000 Inzameling | F8: 0 | G8: 0 | H8: 0
D9: 1001 Giften | F9: 0 | G9: 0 | H9: 0
D10: 1009 Andere ontvangsten van erediensten | F10: 0 | G10: 0 | H10: 0
C17: 200 verbruiksgoederen eredienst | F17: =SUM(F18:F23) -> 0 | G17: =SUM(G18:G23) -> 0 | H17: =SUM(H18:H23) -> 0
D18: 2000 Heilige Koran | F18: 0 | G18: 0 | H18: 0
D19: 2001 Schriften en Boeken | F19: 0 | G19: 0 | H19: 0
D20: 2002 Dadels, brood en melk | F20: 0 | G20: 0 | H20: 0
D21: 2003 Decoratie | F21: 0 | G21: 0 | H21: 0
D22: 2005 Drukwerk vieringen | F22: 0 | G22: 0 | H22: 0
D23: 2009 Overige verbruiksgoederen eredienst | F23: 0 | G23: 0 | H23: 0
C26: 201 aankoop materieel voor de eredienst | F26: =SUM(F27:F32) -> 0 | G26: =SUM(G27:G32) -> 0 | H26: =SUM(H27:H32) -> 0
D27: 2010 Aankoop van kleding voor de imam | F27: 0 | G27: 0 | H27: 0
D28: 2011 Aankoop van tapijten | F28: 0 | G28: 0 | H28: 0
D29: 2012 Aankoop van gebedskralen, Koranlezers, meubilair, moskeegerief | F29: 0 | G29: 0 | H29: 0
D30: 2013 Aankoop van boeken en tijdschriften | F30: 0 | G30: 0 | H30: 0
D31: 2014 Aankoop van geluids- en beeldweergave-installatie | F31: 0 | G31: 0 | H31: 0
D32: 2019 Andere aankopen van materieel voor de eredienst | F32: 0 | G32: 0 | H32: 0
C34: 202 onderhoud materieel voor de eredienst | F34: =SUM(F35:F37) -> 0 | G34: =SUM(G35:G37) -> 0 | H34: =SUM(H35:H37) -> 0
D35: 2020 Onderhoud van tapijten | F35: 0 | G35: 0 | H35: 0
D36: 2021 Onderhoud geluids- en beeldweergave-installatie | F36: 0 | G36: 0 | H36: 0
D37: 2029 Ander onderhoud materieel van de eredienst | F37: 0 | G37: 0 | H37: 0

Sheet Blad2
