Workbook
Name _Hlk87807019: List!$A$4

Sheet Verkeersborden
A1: PLAN | C1: VERSIE | D1: OPSTELLING | E1: ID | F1: LOCATIE | G1: SUBLOCATIE | H1: WEGZIJDE | I1: ITEM | J1: OPSCHRIFT | K1: SYMBOOL | L1: PIJLPUNT | M1: ORIËNTATIE | N1: OPSTELHOOGTE | O1: ACTIE | P1: AANTAL | Q1: OPMERKING
A2: 16700613 | B2: =IF(A2<>"","TP","") -> TP | C2: 1 | D2: 1 | E2: 1 | F2: Hallebaan | G2: na 23 | H2: onpaar | I2: C43 - ZONE - 400 x 600mm | J2: 50 | O2: verwijderen | P2: 1
A3: 16700613 | B3: =IF(A3<>"","TP","") -> TP | C3: =IF(A3<>"",C2,"") -> 1 | D3: 1 | E3: =IF(A3<>"",E2+1,"") -> 2 | F3: Hallebaan | G3: na 23 | H3: onpaar | I3: C43 - 700mm | J3: 50 | M3: rijrichting | N3: 1,50m | O3: nieuw te plaatsen | P3: 1
A4: 16700613 | B4: =IF(A4<>"","TP","") -> TP | C4: =IF(A4<>"",C3,"") -> 1 | D4: 2 | E4: =IF(A4<>"",E3+1,"") -> 3 | F4: Hallebaan | G4: voor # Lenniksesteenweg | H4: paar | I4: C43 - EINDE ZONE - 400 x 600mm | J4: 50 | O4: verwijderen | P4: 1
A5: 16700613 | B5: =IF(A5<>"","TP","") -> TP | C5: =IF(A5<>"",C4,"") -> 1 | D5: 2 | E5: =IF(A5<>"",E4+1,"") -> 4 | F5: Hallebaan | G5: voor # Lenniksesteenweg | H5: paar | I5: bestaande paal | O5: verwijderen | P5: 1
A6: 16700613 | B6: =IF(A6<>"","TP","") -> TP | C6: =IF(A6<>"",C5,"") -> 1 | D6: 3 | E6: =IF(A6<>"",E5+1,"") -> 5 | F6: Hallebaan | G6: na einde bebouwde kom | H6: onpaar | I6: Paal 76 x 3000mm - RAL 7043 | N6: 1,50m | O6: nieuw te plaatsen | P6: 1
A7: 16700613 | B7: =IF(A7<>"","TP","") -> TP | C7: =IF(A7<>"",C6,"") -> 1 | D7: 3 | E7: =IF(A7<>"",E6+1,"") -> 6 | F7: Hallebaan | G7: na einde bebouwde kom | H7: onpaar | I7: C43 - 700mm | J7: 50 | M7: rijrichting | O7: nieuw te plaatsen | P7: 1
A8: 16700613 | B8: =IF(A8<>"","TP","") -> TP | C8: =IF(A8<>"",C7,"") -> 1 | D8: 4 | E8: =IF(A8<>"",E7+1,"") -> 7 | F8: Hallebaan | G8: voor 6c | H8: paar | I8: Paal 76 x 3200mm - RAL 7043 | N8: 1,5m | O8: nieuw te plaatsen | P8: 1
A9: 16700613 | B9: =IF(A9<>"","TP","") -> TP | C9: =IF(A9<>"",C8,"") -> 1 | D9: 4 | E9: =IF(A9<>"",E8+1,"") -> 8 | F9: Hallebaan | G9: voor 6c | H9: paar | I9: F1a - 600 x 900mm | J9: Elingen Pepingen | M9: rijrichting | O9: nieuw te plaatsen | P9: 1
A10: 16700613 | B10: =IF(A10<>"","TP","") -> TP | C10: =IF(A10<>"",C9,"") -> 1 | D10: 5 | E10: =IF(A10<>"",E9+1,"") -> 9 | F10: Hallebaan | G10: voor 6c | H10: paar | I10: Paal 76 x 3200mm - RAL 7043 | N10: 1,5m | O10: nieuw te plaatsen | P10: 1
A11: 16700613 | B11: =IF(A11<>"","TP","") -> TP | C11: =IF(A11<>"",C10,"") -> 1 | D11: 5 | E11: =IF(A11<>"",E10+1,"") -> 10 | F11: Hallebaan | G11: voor 6c | H11: paar | I11: F4a - 600 x 900mm | M11: rijrichting | O11: nieuw te plaatsen | P11: 1
A12: 16700613 | B12: =IF(A12<>"","TP","") -> TP | C12: =IF(A12<>"",C11,"") -> 1 | D12: 6 | E12: =IF(A12<>"",E11+1,"") -> 11 | F12: Hallebaan | G12: na 5d | H12: onpaar | I12: Paal 76 x 3200mm - RAL 7043 | N12: 1,5m | O12: nieuw te plaatsen | P12: 1
A13: 16700613 | B13: =IF(A13<>"","TP","") -> TP | C13: =IF(A13<>"",C12,"") -> 1 | D13: 6 | E13: =IF(A13<>"",E12+1,"") -> 12 | F13: Hallebaan | G13: na 5d | H13: onpaar | I13: F4b - 600 x 900mm | M13: rijrichting | O13: nieuw te plaatsen | P13: 1
A14: 16700613 | B14: =IF(A14<>"","TP","") -> TP | C14: =IF(A14<>"",C13,"") -> 1 | D14: 7 | E14: =IF(A14<>"",E13+1,"") -> 13 | F14: Hallebaan | G14: na 5d | H14: onpaar | I14: Paal 76 x 3200mm - RAL 7043 | N14: 1,5m | O14: nieuw te plaatsen | P14: 1
A15: 16700613 | B15: =IF(A15<>"","TP","") -> TP | C15: =IF(A15<>"",C14,"") -> 1 | D15: 7 | E15: =IF(A15<>"",E14+1,"") -> 14 | F15: Hallebaan | G15: na 5d | H15: onpaar | I15: F3a - 600 x 900mm | J15: Elingen Pepingen | M15: rijrichting | O15: nieuw te plaatsen | P15: 1
A16: 16700613 | B16: =IF(A16<>"","TP","") -> TP | C16: =IF(A16<>"",C15,"") -> 1 | D16: 8 | E16: =IF(A16<>"",E15+1,"") -> 15 | F16: Zwarte Molenstraat | G16: voor 27 | H16: onpaar | I16: Paal 76 x 3200mm - RAL 7043 | N16: 1,5m | O16: nieuw te plaatsen | P16: 1
A17: 16700613 | B17: =IF(A17<>"","TP","") -> TP | C17: =IF(A17<>"",C16,"") -> 1 | D17: 8 | E17: =IF(A17<>"",E16+1,"") -> 16 | F17: Zwarte Molenstraat | G17: voor 27 | H17: onpaar | I17: F1a - 600 x 900mm | J17: Elingen Pepingen | M17: rijrichting | O17: nieuw te plaatsen | P17: 1
A18: 16700613 | B18: =IF(A18<>"","TP","") -> TP | C18: =IF(A18<>"",C17,"") -> 1 | D18: 9 | E18: =IF(A18<>"",E17+1,"") -> 17 | F18: Zwarte Molenstraat | G18: voor 27 | H18: onpaar | I18: Paal 76 x 3200mm - RAL 7043 | N18: 1,5m | O18: nieuw te plaatsen | P18: 1
A19: 16700613 | B19: =IF(A19<>"","TP","") -> TP | C19: =IF(A19<>"",C18,"") -> 1 | D19: 9 | E19: =IF(A19<>"",E18+1,"") -> 18 | F19: Zwarte Molenstraat | G19: voor 27 | H19: onpaar | I19: F4a - 600 x 900mm | M19: rijrichting | O19: nieuw te plaatsen | P19: 1
A20: 16700613 | B20: =IF(A20<>"","TP","") -> TP | C20: =IF(A20<>"",C19,"") -> 1 | D20: 10 | E20: =IF(A20<>"",E19+1,"") -> 19 | F20: Zwarte Molenstraat | G20: na 27 | H20: paar | I20: Paal 76 x 3200mm - RAL 7043 | N20: 1,5m | O20: nieuw te plaatsen | P20: 1
A21: 16700613 | B21: =IF(A21<>"","TP","") -> TP | C21: =IF(A21<>"",C20,"") -> 1 | D21: 10 | E21: =IF(A21<>"",E20+1,"") -> 20 | F21: Zwarte Molenstraat | G21: na 27 | H21: paar | I21: F4b - 600 x 900mm | M21: rijrichting | O21: nieuw te plaatsen | P21: 1
A22: 16700613 | B22: =IF(A22<>"","TP","") -> TP | C22: =IF(A22<>"",C21,"") -> 1 | D22: 11 | E22: =IF(A22<>"",E21+1,"") -> 21 | F22: Zwarte Molenstraat | G22: na 27 | H22: paar | I22: Paal 76 x 3200mm - RAL 7043 | N22: 1,5m | O22: nieuw te plaatsen | P22: 1
A23: 16700613 | B23: =IF(A23<>"","TP","") -> TP | C23: =IF(A23<>"",C22,"") -> 1 | D23: 11 | E23: =IF(A23<>"",E22+1,"") -> 22 | F23: Zwarte Molenstraat | G23: na 27 | H23: paar | I23: F3a - 600 x 900mm | J23: Elingen Pepingen | M23: rijrichting | O23: nieuw te plaatsen | P23: 1
A24: 16700613 | B24: =IF(A24<>"","TP","") -> TP | C24: =IF(A24<>"",C23,"") -> 1 | D24: 12 | E24: =IF(A24<>"",E23+1,"") -> 23 | F24: Zwarte Molenstraat | G24: na 27 | H24: paar | I24: Paal 76 x 3200mm - RAL 7043 | N24: 1,5m | O24: nieuw te plaatsen | P24: 1
A25: 16700613 | B25: =IF(A25<>"","TP","") -> TP | C25: =IF(A25<>"",C24,"") -> 1 | D25: 12 | E25: =IF(A25<>"",E24+1,"") -> 24 | F25: Zwarte Molenstraat | G25: na 27 | H25: paar | I25: C43 - ZONE - 600 x 900mm | J25: 50 | M25: rijrichting | O25: nieuw te plaatsen | P25: 1
A26: 16700613 | B26: =IF(A26<>"","TP","") -> TP | C26: =IF(A26<>"",C25,"") -> 1 | D26: 13 | E26: =IF(A26<>"",E25+1,"") -> 25 | F26: Borrestraat | G26: na 15 | H26: paar | I26: Paal 76 x 3200mm - RAL 7043 | N26: 1,5m | O26: nieuw te plaatsen | P26: 1
A27: 16700613 | B27: =IF(A27<>"","TP","") -> TP | C27: =IF(A27<>"",C26,"") -> 1 | D27: 13 | E27: =IF(A27<>"",E26+1,"") -> 26 | F27: Borrestraat | G27: na 15 | H27: paar | I27: F4b - 600 x 900mm | M27: rijrichting | O27: nieuw te plaatsen | P27: 1
A28: 16700613 | B28: =IF(A28<>"","TP","") -> TP | C28: =IF(A28<>"",C27,"") -> 1 | D28: 14 | E28: =IF(A28<>"",E27+1,"") -> 27 | F28: Borrestraat | G28: voor 15 | H28: onpaar | I28: Paal 76 x 3200mm - RAL 7043 | N28: 1,5m | O28: nieuw te plaatsen | P28: 1
A29: 16700613 | B29: =IF(A29<>"","TP","") -> TP | C29: =IF(A29<>"",C28,"") -> 1 | D29: 14 | E29: =IF(A29<>"",E28+1,"") -> 28 | F29: Borrestraat | G29: voor15 | H29: onpaar | I29: F4a - 600 x 900mm | M29: rijrichting | O29: nieuw te plaatsen | P29: 1
A30: 16700613 | B30: =IF(A30<>"","TP","") -> TP | C30: =IF(A30<>"",C29,"") -> 1 | D30: 15 | E30: =IF(A30<>"",E29+1,"") -> 29 | F30: Kwadestraat | G30: na # Borrestraat | I30: Paal 76 x 3200mm - RAL 7043 | N30: 1,5m | O30: nieuw te plaatsen | P30: 1
A31: 16700613 | B31: =IF(A31<>"","TP","") -> TP | C31: =IF(A31<>"",C30,"") -> 1 | D31: 15 | E31: =IF(A31<>"",E30+1,"") -> 30 | F31: Kwadestraat | G31: na # Borrestraat | I31: F3a - 600 x 900mm | J31: Elingen Pepingen | M31: rijrichting | O31: nieuw te plaatsen | P31: 1
A32: 16700613 | B32: =IF(A32<>"","TP","") -> TP | C32: =IF(A32<>"",C31,"") -> 1 | D32: 16 | E32: =IF(A32<>"",E31+1,"") -> 31 | F32: Kwadestraat | G32: na # Borrestraat | I32: Paal 76 x 3200mm - RAL 7043 | N32: 1,5m | O32: nieuw te plaatsen | P32: 1
A33: 16700613 | B33: =IF(A33<>"","TP","") -> TP | C33: =IF(A33<>"",C32,"") -> 1 | D33: 16 | E33: =IF(A33<>"",E32+1,"") -> 32 | F33: Kwadestraat | G33: na # Borrestraat | I33: C43 - ZONE - 600 x 900mm | J33: 50 | M33: rijrichting | O33: nieuw te plaatsen | P33: 1
A34: 16700613 | B34: =IF(A34<>"","TP","") -> TP | C34: =IF(A34<>"",C33,"") -> 1 | D34: 17 | E34: =IF(A34<>"",E33+1,"") -> 33 | F34: Kwadestraat | G34: voor # Borrestraat | I34: Paal 76 x 3200mm - RAL 7043 | N34: 1,5m | O34: nieuw te plaatsen | P34: 1
A35: 16700613 | B35: =IF(A35<>"","TP","") -> TP | C35: =IF(A35<>"",C34,"") -> 1 | D35: 17 | E35: =IF(A35<>"",E34+1,"") -> 34 | F35: Kwadestraat | G35: voor # Borrestraat | I35: F1a - 600 x 900mm | J35: Elingen Pepingen | M35: rijrichting | O35: nieuw te plaatsen | P35: 1
A36: 16700613 | B36: =IF(A36<>"","TP","") -> TP | C36: =IF(A36<>"",C35,"") -> 1 | D36: 18 | E36: =IF(A36<>"",E35+1,"") -> 35 | F36: Borrestraat | G36: na # Kwadestraat | H36: paar | I36: Paal 76 x 3200mm - RAL 7043 | N36: 1,5m | O36: nieuw te plaatsen | P36: 1
A37: 16700613 | B37: =IF(A37<>"","TP","") -> TP | C37: =IF(A37<>"",C36,"") -> 1 | D37: 18 | E37: =IF(A37<>"",E36+1,"") -> 36 | F37: Borrestraat | G37: na # Kwadestraat | H37: paar | I37: F3a - 600 x 900mm | J37: Elingen Pepingen | M37: rijrichting | O37: nieuw te plaatsen | P37: 1
A38: 16700613 | B38: =IF(A38<>"","TP","") -> TP | C38: =IF(A38<>"",C37,"") -> 1 | D38: 19 | E38: =IF(A38<>"",E37+1,"") -> 37 | F38: Borrestraat | G38: voor # Kwadestraat | H38: onpaar | I38: Paal 76 x 3200mm - RAL 7043 | N38: 1,5m | O38: nieuw te plaatsen | P38: 1
A39: 16700613 | B39: =IF(A39<>"","TP","") -> TP | C39: =IF(A39<>"",C38,"") -> 1 | D39: 19 | E39: =IF(A39<>"",E38+1,"") -> 38 | F39: Borrestraat | G39: voor # Kwadestraat | H39: onpaar | I39: F1a - 600 x 900mm | J39: Elingen Pepingen | M39: rijrichting | O39: nieuw te plaatsen | P39: 1
A40: 16700613 | B40: =IF(A40<>"","TP","") -> TP | C40: =IF(A40<>"",C39,"") -> 1 | D40: 20 | E40: =IF(A40<>"",E39+1,"") -> 39 | F40: Lennikseteenweg | G40: na 3 | H40: onpaar | I40: Paal 76 x 3200mm - RAL 7043 | N40: 1,5m | O40: nieuw te plaatsen | P40: 1
...

Sheet Wegmarkeringen
A1: PLAN | C1: VERSIE | D1: OPSTELLING | E1: ID | F1: LOCATIE | G1: SUBLOCATIE | I1: ITEM | J1: LENGTE m | K1: NETTO m² | L1: ST | M1: NETTO m² | N1: OPP BRUTO m² | O1: OPP NETTO m² | P1: Actie | Q1: Opmerking
A2: 16700613 | B2: =IF(A2<>"","TP","") -> TP | C2: V01 | D2: W1 | E2: 1 | F2: Mortagnestraat | G2: DIV | H2: 31 | I2: =IF(H2<>"",LOOKUP(H2,List!$C$1:$C$1000,List!$D$1:$D$1000),"") -> Fietsstraat reproductie F111 - 1,20m x 1,80m | K2: =IF(J2<>"",J2*LOOKUP(H2,List!$C$1:$C$1000,List!$E$1:$E$1000),"") | L2: 4 | M2: =IF(L2<>"",L2*LOOKUP(H2,List!$C$1:$C$1000,List!$E$1:$E$1000),"") -> 0 | O2: =IF(N2<>"",N2*LOOKUP(H2,List!$C$1:$C$1000:'List'!$E$1:$E$1000),"") | P2: nieuw te plaatsen
A3: 16700613 | B3: =IF(A3<>"","TP","") -> TP | C3: =IF(A3<>"",C2,"") -> V01 | D3: W1 | E3: =IF(A3<>"",E2+1,"") -> 2 | F3: Kouterstraat | G3: DIV | H3: 31 | I3: =IF(H3<>"",LOOKUP(H3,List!$C$1:$C$1000,List!$D$1:$D$1000),"") -> Fietsstraat reproductie F111 - 1,20m x 1,80m | K3: =IF(J3<>"",J3*LOOKUP(H3,List!$C$1:$C$1000,List!$E$1:$E$1000),"") | L3: 2 | M3: =IF(L3<>"",L3*LOOKUP(H3,List!$C$1:$C$1000,List!$E$1:$E$1000),"") -> 0 | O3: =IF(N3<>"",N3*LOOKUP(H3,List!$C$1:$C$1000:'List'!$E$1:$E$1000),"") | P3: nieuw te plaatsen
A4: 16700613 | B4: =IF(A4<>"","TP","") -> TP | C4: =IF(A4<>"",C3,"") -> V01 | D4: W2 | E4: =IF(A4<>"",E3+1,"") -> 3 | F4: Mortagnestraat | G4: DIV | H4: 10 | I4: =IF(H4<>"",LOOKUP(H4,List!$C$1:$C$1000,List!$D$1:$D$1000),"") -> Symbool fiets - 0,90 x 1,53m | K4: =IF(J4<>"",J4*LOOKUP(H4,List!$C$1:$C$1000,List!$E$1:$E$1000),"") | L4: 70 | M4: =IF(L4<>"",L4*LOOKUP(H4,List!$C$1:$C$1000,List!$E$1:$E$1000),"") -> 34.72 | O4: =IF(N4<>"",N4*LOOKUP(H4,List!$C$1:$C$1000:'List'!$E$1:$E$1000),"") | P4: nieuw te plaatsen
A5: 16700613 | B5: =IF(A5<>"","TP","") -> TP | C5: =IF(A5<>"",C4,"") -> V01 | D5: W3 | E5: =IF(A5<>"",E4+1,"") -> 4 | F5: Mortagnestraat | G5: DIV | H5: 33 | I5: =IF(H5<>"",LOOKUP(H5,List!$C$1:$C$1000,List!$D$1:$D$1000),"") -> Enkele pijl op fietspad type H1 - 1,50m x 0,50m | K5: =IF(J5<>"",J5*LOOKUP(H5,List!$C$1:$C$1000,List!$E$1:$E$1000),"") | L5: 70 | M5: =IF(L5<>"",L5*LOOKUP(H5,List!$C$1:$C$1000,List!$E$1:$E$1000),"") -> 10.325 | O5: =IF(N5<>"",N5*LOOKUP(H5,List!$C$1:$C$1000:'List'!$E$1:$E$1000),"") | P5: nieuw te plaatsen
A6: 16700613 | B6: =IF(A6<>"","TP","") -> TP | C6: =IF(A6<>"",C5,"") -> V01 | D6: W2 | E6: =IF(A6<>"",E5+1,"") -> 5 | F6: Kouterstraat | G6: DIV | H6: 10 | I6: =IF(H6<>"",LOOKUP(H6,List!$C$1:$C$1000,List!$D$1:$D$1000),"") -> Symbool fiets - 0,90 x 1,53m | K6: =IF(J6<>"",J6*LOOKUP(H6,List!$C$1:$C$1000,List!$E$1:$E$1000),"") | L6: 70 | M6: =IF(L6<>"",L6*LOOKUP(H6,List!$C$1:$C$1000,List!$E$1:$E$1000),"") -> 34.72 | O6: =IF(N6<>"",N6*LOOKUP(H6,List!$C$1:$C$1000:'List'!$E$1:$E$1000),"") | P6: nieuw te plaatsen
A7: 16700613 | B7: =IF(A7<>"","TP","") -> TP | C7: =IF(A7<>"",C6,"") -> V01 | D7: W3 | E7: =IF(A7<>"",E6+1,"") -> 6 | F7: Kouterstraat | G7: DIV | H7: 33 | I7: =IF(H7<>"",LOOKUP(H7,List!$C$1:$C$1000,List!$D$1:$D$1000),"") -> Enkele pijl op fietspad type H1 - 1,50m x 0,50m | K7: =IF(J7<>"",J7*LOOKUP(H7,List!$C$1:$C$1000,List!$E$1:$E$1000),"") | L7: 70 | M7: =IF(L7<>"",L7*LOOKUP(H7,List!$C$1:$C$1000,List!$E$1:$E$1000),"") -> 10.325 | O7: =IF(N7<>"",N7*LOOKUP(H7,List!$C$1:$C$1000:'List'!$E$1:$E$1000),"") | P7: nieuw te plaatsen
A8: 16700613 | B8: =IF(A8<>"","TP","") -> TP | C8: =IF(A8<>"",C7,"") -> V01 | D8: W4 | E8: =IF(A8<>"",E7+1,"") -> 7 | F8: Kouterstraat | G8: DIV | H8: 87 | I8: =IF(H8<>"",LOOKUP(H8,List!$C$1:$C$1000,List!$D$1:$D$1000),"") -> Opschrift "30" - 1,28m x 2,40m | K8: =IF(J8<>"",J8*LOOKUP(H8,List!$C$1:$C$1000,List!$E$1:$E$1000),"") | L8: 2 | M8: =IF(L8<>"",L8*LOOKUP(H8,List!$C$1:$C$1000,List!$E$1:$E$1000),"") -> 2.92 | O8: =IF(N8<>"",N8*LOOKUP(H8,List!$C$1:$C$1000:'List'!$E$1:$E$1000),"") | P8: nieuw te plaatsen
A9: 16700613 | B9: =IF(A9<>"","TP","") -> TP | C9: =IF(A9<>"",C8,"") -> V01 | D9: W4 | E9: =IF(A9<>"",E8+1,"") -> 8 | F9: Mortagnestraat | H9: 87 | I9: =IF(H9<>"",LOOKUP(H9,List!$C$1:$C$1000,List!$D$1:$D$1000),"") -> Opschrift "30" - 1,28m x 2,40m | K9: =IF(J9<>"",J9*LOOKUP(H9,List!$C$1:$C$1000,List!$E$1:$E$1000),"") | L9: 4 | M9: =IF(L9<>"",L9*LOOKUP(H9,List!$C$1:$C$1000,List!$E$1:$E$1000),"") -> 5.84 | O9: =IF(N9<>"",N9*LOOKUP(H9,List!$C$1:$C$1000:'List'!$E$1:$E$1000),"") | P9: nieuw te plaatsen
B10: =IF(A10<>"","TP","") | C10: =IF(A10<>"",C9,"") | E10: =IF(A10<>"",E9+1,"") | I10: =IF(H10<>"",LOOKUP(H10,List!$C$1:$C$1000,List!$D$1:$D$1000),"") | K10: =IF(J10<>"",J10*LOOKUP(H10,List!$C$1:$C$1000,List!$E$1:$E$1000),"") | M10: =IF(L10<>"",L10*LOOKUP(H10,List!$C$1:$C$1000,List!$E$1:$E$1000),"") | O10: =IF(N10<>"",N10*LOOKUP(H10,List!$C$1:$C$1000:'List'!$E$1:$E$1000),"")
B11: =IF(A11<>"","TP","") | C11: =IF(A11<>"",C10,"") | E11: =IF(A11<>"",E10+1,"") | I11: =IF(H11<>"",LOOKUP(H11,List!$C$1:$C$1000,List!$D$1:$D$1000),"") | K11: =IF(J11<>"",J11*LOOKUP(H11,List!$C$1:$C$1000,List!$E$1:$E$1000),"") | M11: =IF(L11<>"",L11*LOOKUP(H11,List!$C$1:$C$1000,List!$E$1:$E$1000),"") | O11: =IF(N11<>"",N11*LOOKUP(H11,List!$C$1:$C$1000:'List'!$E$1:$E$1000),"")
B12: =IF(A12<>"","TP","") | C12: =IF(A12<>"",C11,"") | E12: =IF(A12<>"",E11+1,"") | I12: =IF(H12<>"",LOOKUP(H12,List!$C$1:$C$1000,List!$D$1:$D$1000),"") | K12: =IF(J12<>"",J12*LOOKUP(H12,List!$C$1:$C$1000,List!$E$1:$E$1000),"") | M12: =IF(L12<>"",L12*LOOKUP(H12,List!$C$1:$C$1000,List!$E$1:$E$1000),"") | O12: =IF(N12<>"",N12*LOOKUP(H12,List!$C$1:$C$1000:'List'!$E$1:$E$1000),"")
B13: =IF(A13<>"","TP","") | C13: =IF(A13<>"",C12,"") | E13: =IF(A13<>"",E12+1,"") | I13: =IF(H13<>"",LOOKUP(H13,List!$C$1:$C$1000,List!$D$1:$D$1000),"") | K13: =IF(J13<>"",J13*LOOKUP(H13,List!$C$1:$C$1000,List!$E$1:$E$1000),"") | M13: =IF(L13<>"",L13*LOOKUP(H13,List!$C$1:$C$1000,List!$E$1:$E$1000),"") | O13: =IF(N13<>"",N13*LOOKUP(H13,List!$C$1:$C$1000:'List'!$E$1:$E$1000),"")
B14: =IF(A14<>"","TP","") | C14: =IF(A14<>"",C13,"") | E14: =IF(A14<>"",E13+1,"") | I14: =IF(H14<>"",LOOKUP(H14,List!$C$1:$C$1000,List!$D$1:$D$1000),"") | K14: =IF(J14<>"",J14*LOOKUP(H14,List!$C$1:$C$1000,List!$E$1:$E$1000),"") | M14: =IF(L14<>"",L14*LOOKUP(H14,List!$C$1:$C$1000,List!$E$1:$E$1000),"") | O14: =IF(N14<>"",N14*LOOKUP(H14,List!$C$1:$C$1000:'List'!$E$1:$E$1000),"")
B15: =IF(A15<>"","TP","") | C15: =IF(A15<>"",C14,"") | E15: =IF(A15<>"",E14+1,"") | I15: =IF(H15<>"",LOOKUP(H15,List!$C$1:$C$1000,List!$D$1:$D$1000),"") | K15: =IF(J15<>"",J15*LOOKUP(H15,List!$C$1:$C$1000,List!$E$1:$E$1000),"") | M15: =IF(L15<>"",L15*LOOKUP(H15,List!$C$1:$C$1000,List!$E$1:$E$1000),"") | O15: =IF(N15<>"",N15*LOOKUP(H15,List!$C$1:$C$1000:'List'!$E$1:$E$1000),"")
B16: =IF(A16<>"","TP","") | C16: =IF(A16<>"",C15,"") | E16: =IF(A16<>"",E15+1,"") | I16: =IF(H16<>"",LOOKUP(H16,List!$C$1:$C$1000,List!$D$1:$D$1000),"") | K16: =IF(J16<>"",J16*LOOKUP(H16,List!$C$1:$C$1000,List!$E$1:$E$1000),"") | M16: =IF(L16<>"",L16*LOOKUP(H16,List!$C$1:$C$1000,List!$E$1:$E$1000),"") | O16: =IF(N16<>"",N16*LOOKUP(H16,List!$C$1:$C$1000:'List'!$E$1:$E$1000),"")
B17: =IF(A17<>"","TP","") | C17: =IF(A17<>"",C16,"") | E17: =IF(A17<>"",E16+1,"") | I17: =IF(H17<>"",LOOKUP(H17,List!$C$1:$C$1000,List!$D$1:$D$1000),"") | K17: =IF(J17<>"",J17*LOOKUP(H17,List!$C$1:$C$1000,List!$E$1:$E$1000),"") | M17: =IF(L17<>"",L17*LOOKUP(H17,List!$C$1:$C$1000,List!$E$1:$E$1000),"") | O17: =IF(N17<>"",N17*LOOKUP(H17,List!$C$1:$C$1000:'List'!$E$1:$E$1000),"")
B18: =IF(A18<>"","TP","") | C18: =IF(A18<>"",C17,"") | E18: =IF(A18<>"",E17+1,"") | I18: =IF(H18<>"",LOOKUP(H18,List!$C$1:$C$1000,List!$D$1:$D$1000),"") | K18: =IF(J18<>"",J18*LOOKUP(H18,List!$C$1:$C$1000,List!$E$1:$E$1000),"") | M18: =IF(L18<>"",L18*LOOKUP(H18,List!$C$1:$C$1000,List!$E$1:$E$1000),"") | O18: =IF(N18<>"",N18*LOOKUP(H18,List!$C$1:$C$1000:'List'!$E$1:$E$1000),"")
B19: =IF(A19<>"","TP","") | C19: =IF(A19<>"",C18,"") | E19: =IF(A19<>"",E18+1,"") | I19: =IF(H19<>"",LOOKUP(H19,List!$C$1:$C$1000,List!$D$1:$D$1000),"") | K19: =IF(J19<>"",J19*LOOKUP(H19,List!$C$1:$C$1000,List!$E$1:$E$1000),"") | M19: =IF(L19<>"",L19*LOOKUP(H19,List!$C$1:$C$1000,List!$E$1:$E$1000),"") | O19: =IF(N19<>"",N19*LOOKUP(H19,List!$C$1:$C$1000:'List'!$E$1:$E$1000),"")
B20: =IF(A20<>"","TP","") | C20: =IF(A20<>"",C19,"") | E20: =IF(A20<>"",E19+1,"") | I20: =IF(H20<>"",LOOKUP(H20,List!$C$1:$C$1000,List!$D$1:$D$1000),"") | K20: =IF(J20<>"",J20*LOOKUP(H20,List!$C$1:$C$1000,List!$E$1:$E$1000),"") | M20: =IF(L20<>"",L20*LOOKUP(H20,List!$C$1:$C$1000,List!$E$1:$E$1000),"") | O20: =IF(N20<>"",N20*LOOKUP(H20,List!$C$1:$C$1000:'List'!$E$1:$E$1000),"")
B21: =IF(A21<>"","TP","") | C21: =IF(A21<>"",C20,"") | E21: =IF(A21<>"",E20+1,"") | I21: =IF(H21<>"",LOOKUP(H21,List!$C$1:$C$1000,List!$D$1:$D$1000),"") | K21: =IF(J21<>"",J21*LOOKUP(H21,List!$C$1:$C$1000,List!$E$1:$E$1000),"") | M21: =IF(L21<>"",L21*LOOKUP(H21,List!$C$1:$C$1000,List!$E$1:$E$1000),"") | O21: =IF(N21<>"",N21*LOOKUP(H21,List!$C$1:$C$1000:'List'!$E$1:$E$1000),"")
... B2000: =IF(A2000<>"","TP","") | C2000: =IF(A2000<>"",C1999,"") | E2000: =IF(A2000<>"",E1999+1,"") | I2000: =IF(H2000<>"",LOOKUP(H2000,List!$C$1:$C$1000,List!$D$1:$D$1000),"") | K2000: =IF(J2000<>"",J2000*LOOKUP(H2000,List!$C$1:$C$1000,List!$E$1:$E$1000),"") | M2000: =IF(L2000<>"",L2000*LOOKUP(H2000,List!$C$1:$C$1000,List!$E$1:$E$1000),"") | O2000: =IF(N2000<>"",N2000*LOOKUP(H2000,List!$C$1:$C$1000:'List'!$E$1:$E$1000),"")

Sheet Infrastructuur

Sheet List
A1: Bestaande paal | B1: Fietslogo en horizontaal dubbel pijlenpaar | C1: 1 | D1: Werkelijke rand van de rijbaan - 0,15m breed | E1: 0.15
A2: Bestaande geveluitkraging | B2: Rolstoelsymbool | C2: 2 | D2: Werkelijke rand van de rijbaan - onderbroken gele streep - 0,15m breed | E2: 0.075
A3: Geveluitkraging | B3: S01 - Luchthaven | C3: 3 | D3: Denkbeeldige rand van de rijbaan - 0,20m breed | E3: 0.2
A4: Paal 51 x 2000mm - RAL 2009 | B4: S02 - Beurs- of tentoonstellingshal | C4: 4 | D4: Denkbeeldige rand van de rijbaan - 0,25m breed | E4: 0.25
A5: Paal 51 x 2000mm - RAL 7043 | B5: S03 - Haven | C5: 5 | D5: Doorlopende streep rijstrook - 0,15m breed | E5: 0.15
A6: Paal 51 x 2330mm - RAL 2009 | B6: S04 - Car-Ferry | C6: 6 | D6: Onderbroken streep rijstrook - 0,15m x 2,50m hiaat 10m | E6: 0.03
A7: Paal 51 x 2330mm - RAL 7043 | B7: S05 - Befrijf- en industriepark | C7: 7 | D7: Naderingsmarkering rijstrook - 0,15m x 1,00m hiaat 1,50m | E7: 0.06
A8: Paal 51 x 2500mm - RAL 2009 | B8: S10 - Politiediensten | C8: 8 | D8: Afbakening busstrook - 0,30m x 2,5m hiaat 1,00m | E8: 0.21428571
A9: Paal 51 x 2500mm - RAL 7043 | B9: S11 - Brandweer | C9: 9 | D9: Busstrook opschrift "BUS" - 1,40m x 2,50m | E9: 1.396
A10: Paal 51 x 3000mm - RAL 2009 | B10: S12 - Civiele bescherming | C10: 10 | D10: Symbool fiets - 0,90 x 1,53m | E10: 0.496
A11: Paal 51 x 3000mm - RAL 7043 | B11: S13 - Begraafplaats | C11: 11 | D11: Symbool fiets - 0,45 x 0,765m | E11: 0.124
A12: Paal 51 x 3500mm - RAL 2009 | B12: S14 - Busstation | C12: 12 | D12: Busstrook symbool woon- werkverkeer - 1,50m x 1,50m | E12: 0.93
... A30: Paal 76 x 3000mm - RAL 2009 | B30: Sportsymbool - hockey | C30: 30 | D30: Verbindingsmarkering - 2 x (0,15m x 0,15m hiaat 0,15) hiaat 0,30 | E30: 0.06
A31: Paal 76 x 3000mm - RAL 7043 | B31: Sportsymbool - ijsschaatsbaan | C31: 31 | D31: Fietsstraat reproductie F111 - 1,20m x 1,80m
A32: Paal 76 x 3200mm - RAL 2009 | B32: Sportsymbool - kano - kayak | C32: 32 | D32: Dubbele pijl op fietspad type H1 - 2 x (1,50m x 0,50m) | E32: 0.295
A33: Paal 76 x 3200mm - RAL 7043 | B33: Sportsymbool - langlauf | C33: 33 | D33: Enkele pijl op fietspad type H1 - 1,50m x 0,50m | E33: 0.1475
A34: Paal 76 x 3340mm - RAL 2009 | B34: Sportsymbool - roeien | C34: 34 | D34: Voorsorteringspijl fietspad type H2 - 2,50m x 0,51m | E34: 0.47
A35: Paal 76 x 3340mm - RAL 7043 | B35: Sportsymbool - ruitersport | C35: 35 | D35: Voorsorteringspijl type A | E35: 1.211
A36: Paal 76 x 3500mm - RAL 2009 | B36: Sportsymbool - schietstand | C36: 36 | D36: Voorsorteringspijl type B1 | E36: 2.187
A37: Paal 76 x 3500mm - RAL 7043 | B37: Sportsymbool - tennis | C37: 37 | D37: Voorsorteringspijl type B2 | E37: 2.187
A38: Paal 76 x 3800mm - RAL 2009 | B38: Sportsymbool - voetbalstation | C38: 38 | D38: Voorsorteringspijl type C1 | E38: 1.504
A39: Paal 76 x 3800mm - RAL 7043 | B39: Sportsymbool - waterski | C39: 39 | D39: Voorsorteringspijl type C2 | E39: 1.504
A40: Paal 76 x 4000mm - RAL 2009 | B40: Sportsymbool - wielersport | C40: 40 | D40: Voorsorteringspijl type C3 | E40: 1.631
A41: Paal 76 x 4000mm - RAL 7043 | B41: Sportsymbool - zeilen | C41: 41 | D41: Voorsorteringspijl type C4 | E41: 1.631
A42: Paal 76 x 4200mm - RAL 2009 | B42: Sportsymbool - zwembad | C42: 42 | D42: Voorsorteringspijl type D | E42: 2.489
A43: Paal 76 x 4200mm - RAL 7043 | B43: Symbool elektrisch laadpunt | C43: 43 | D43: Voorsorteringspijl type E | E43: 3.162
... A62: Paal 89 x 2000mm - RAL 2009 | B62: Symbool vrachtauto | C62: 62 | D62: Rijstrookverminderingspijl type G2 | E62: 4.185
A63: Paal 89 x 2000mm - RAL 7043 | C63: 63 | D63: Bushalte - letters BUS 2,00m | E63: 4.891
A64: Paal 89 x 3000mm - RAL 2009 | C64: 64 | D64: Standaard bushalte 30m met bushaltemarkering - 2,80m breed | E64: 18.155
A65: Paal 89 x 3000mm - RAL 7043 | C65: 65 | D65: Standaard bushalte 30m met bushaltemarkering - 3,00m breed | E65: 18.534
A66: Paal 89 x 4000mm - RAL 2009 | C66: 66 | D66: Verlengde bushalte 45m met bushaltemarkering - 2,50m breed | E66: 26.346
A67: Paal 89 x 4000mm - RAL 7043 | C67: 67 | D67: Verlengde bushalte 45m met bushaltemarkering - 3,00m breed | E67: 26.725
A68: Paal 89 x 4500mm - RAL 2009 | C68: 68 | D68: Dambordmarkering - 0,50m x 0,50m | E68: 0.5
A69: Paal 89 x 4500mm - RAL 7043 | C69: 69 | D69: Stopstreep | E69: 0.5
A70: Paal 89 x 5000mm - RAL 2009 | C70: 70 | D70: Doorlopende naderingsstreep stopstreep - 0,15m breed | E70: 0.15
A71: Paal 89 x 5000mm - RAL 7043 | C71: 71 | D71: Dwarsstreep door witte driehoeken 0,50m x 0,70m - aantal driehoeken | E71: 0.175
A72: Paal 89 x 5500mm - RAL 2009 | C72: 72 | D72: Doorlopende naderingsstreep dwarsstreep drieheoeken - 0,15m breed | E72: 0.15
A73: Paal 89 x 5500mm - RAL 7043 | C73: 73 | D73: Dwarsstreep door witte driehoeken 0,21m x 0,30m - aantal driehoeken | E73: 0.032
A74: Paal 89 x 6000mm - RAL 2009 | C74: 74 | D74: Opschrift "STOP" recht - 2,00m x 4,00m | E74: 3.087
... A76: Paal 89 x 7000mm - RAL 2009 | C76: 76 | D76: Reproductie B1 - 1,75m x 3,50m | E76: 2.206
...
