Workbook
Name _Hlk87807019: List!$A$4

Sheet Verkeersborden
A1: PLAN | C1: VERSIE | D1: OPSTELLING | E1: ID | F1: LOCATIE | G1: SUBLOCATIE | H1: WEGZIJDE | I1: ITEM | J1: OPSCHRIFT | K1: SYMBOOL | L1: PIJLPUNT | M1: ORIËNTATIE | N1: OPSTELHOOGTE | O1: ACTIE | P1: AANTAL | Q1: OPMERKING
A2: 16700613 | B2: =IF(A2<>"","TP","") -> TP | C2: 1 | D2: 1 | E2: 1 | F2: Hallebaan | G2: na 23 | H2: onpaar | I2: C43 - ZONE - 400 x 600mm | J2: 50 | O2: verwijderen | P2: 1
A3: 16700613 | B3: =IF(A3<>"","TP","") -> TP | C3: =IF(A3<>"",C2,"") -> 1 | D3: 1 | E3: =IF(A3<>"",E2+1,"") -> 2 | F3: Hallebaan | G3: na 23 | H3: onpaar | I3: C43 - 700mm | J3: 50 | M3: rijrichting | N3: 1,50m | O3: nieuw te plaatsen | P3: 1
A4: 16700613 | B4: =IF(A4<>"","TP","") -> TP | C4: =IF(A4<>"",C3,"") -> 1 | D4: 2 | E4: =IF(A4<>"",E3+1,"") -> 3 | F4: Hallebaan | G4: voor # Lenniksesteenweg | H4: paar | I4: C43 - EINDE ZONE - 400 x 600mm | J4: 50 | O4: verwijderen | P4: 1
A5: 16700613 | B5: =IF(A5<>"","TP","") -> TP | C5: =IF(A5<>"",C4,"") -> 1 | D5: 2 | E5: =IF(A5<>"",E4+1,"") -> 4 | F5: Hallebaan | G5: voor # Lenniksesteenweg | H5: paar | I5: bestaande paal | O5: verwijderen | P5: 1
A6: 16700613 | B6: =IF(A6<>"","TP","") -> TP | C6: =IF(A6<>"",C5,"") -> 1 | D6: 3 | E6: =IF(A6<>"",E5+1,"") -> 5 | F6: Hallebaan | G6: na einde bebouwde kom | H6: onpaar | I6: Paal 76 x 3000mm - RAL 7043 | N6: 1,50m | O6: nieuw te plaatsen | P6: 1
A7: 16700613 | B7: =IF(A7<>"","TP","") -> TP | C7: =IF(A7<>"",C6,"") -> 1 | D7: 3 | E7: =IF(A7<>"",E6+1,"") -> 6 | F7: Hallebaan | G7: na einde bebouwde kom | H7: onpaar | I7: C43 - 700mm | J7: 50 | M7: rijrichting | O7: nieuw te plaatsen | P7: 1
A8: 16700613 | B8: =IF(A8<>"","TP","") -> TP | C8: =IF(A8<>"",C7,"") -> 1 | D8: 4 | E8: =IF(A8<>"",E7+1,"") -> 7 | F8: Hallebaan | G8: voor 6c | H8: paar | I8: Paal 76 x 3200mm - RAL 7043 | N8: 1,5m | O8: nieuw te plaatsen | P8: 1
A9: 16700613 | B9: =IF(A9<>"","TP","") -> TP | C9: =IF(A9<>"",C8,"") -> 1 | D9: 4 | E9: =IF(A9<>"",E8+1,"") -> 8 | F9: Hallebaan | G9: voor 6c | H9: paar | I9: F1a - 600 x 900mm | J9: Elingen Pepingen | M9: rijrichting | O9: nieuw te plaatsen | P9: 1
A10: 16700613 | B10: =IF(A10<>"","TP","") -> TP | C10: =IF(A10<>"",C9,"") -> 1 | D10: 5 | E10: =IF(A10<>"",E9+1,"") -> 9 | F10: Hallebaan | G10: voor 6c | H10: paar | I10: Paal 76 x 3200mm - RAL 7043 | N10: 1,5m | O10: nieuw te plaatsen | P10: 1
A11: 16700613 | B11: =IF(A11<>"","TP","") -> TP | C11: =IF(A11<>"",C10,"") -> 1 | D11: 5 | E11: =IF(A11<>"",E10+1,"") -> 10 | F11: Hallebaan | G11: voor 6c | H11: paar | I11: F4a - 600 x 900mm | M11: rijrichting | O11: nieuw te plaatsen | P11: 1
A12: 16700613 | B12: =IF(A12<>"","TP","") -> TP | C12: =IF(A12<>"",C11,"") -> 1 | D12: 6 | E12: =IF(A12<>"",E11+1,"") -> 11 | F12: Hallebaan | G12: na 5d | H12: onpaar | I12: Paal 76 x 3200mm - RAL 7043 | N12: 1,5m | O12: nieuw te plaatsen | P12: 1
A13: 16700613 | B13: =IF(A13<>"","TP","") -> TP | C13: =IF(A13<>"",C12,"") -> 1 | D13: 6 | E13: =IF(A13<>"",E12+1,"") -> 12 | F13: Hallebaan | G13: na 5d | H13: onpaar | I13: F4b - 600 x 900mm | M13: rijrichting | O13: nieuw te plaatsen | P13: 1
A14: 16700613 | B14: =IF(A14<>"","TP","") -> TP | C14: =IF(A14<>"",C13,"") -> 1 | D14: 7 | E14: =IF(A14<>"",E13+1,"") -> 13 | F14: Hallebaan | G14: na 5d | H14: onpaar | I14: Paal 76 x 3200mm - RAL 7043 | N14: 1,5m | O14: nieuw te plaatsen | P14: 1
A15: 16700613 | B15: =IF(A15<>"","TP","") -> TP | C15: =IF(A15<>"",C14,"") -> 1 | D15: 7 | E15: =IF(A15<>"",E14+1,"") -> 14 | F15: Hallebaan | G15: na 5d | H15: onpaar | I15: F3a - 600 x 900mm | J15: Elingen Pepingen | M15: rijrichting | O15: nieuw te plaatsen | P15: 1
A16: 16700613 | B16: =IF(A16<>"","TP","") -> TP | C16: =IF(A16<>"",C15,"") -> 1 | D16: 8 | E16: =IF(A16<>"",E15+1,"") -> 15 | F16: Zwarte Molenstraat | G16: voor 27 | H16: onpaar | I16: Paal 76 x 3200mm - RAL 7043 | N16: 1,5m | O16: nieuw te plaatsen | P16: 1
A17: 16700613 | B17: =IF(A17<>"","TP","") -> TP | C17: =IF(A17<>"",C16,"") -> 1 | D17: 8 | E17: =IF(A17<>"",E16+1,"") -> 16 | F17: Zwarte Molenstraat | G17: voor 27 | H17: onpaar | I17: F1a - 600 x 900mm | J17: Elingen Pepingen | M17: rijrichting | O17: nieuw te plaatsen | P17: 1
A18: 16700613 | B18: =IF(A18<>"","TP","") -> TP | C18: =IF(A18<>"",C17,"") -> 1 | D18: 9 | E18: =IF(A18<>"",E17+1,"") -> 17 | F18: Zwarte Molenstraat | G18: voor 27 | H18: onpaar | I18: Paal 76 x 3200mm - RAL 7043 | N18: 1,5m | O18: nieuw te plaatsen | P18: 1
A19: 16700613 | B19: =IF(A19<>"","TP","") -> TP | C19: =IF(A19<>"",C18,"") -> 1 | D19: 9 | E19: =IF(A19<>"",E18+1,"") -> 18 | F19: Zwarte Molenstraat | G19: voor 27 | H19: onpaar | I19: F4a - 600 x 900mm | M19: rijrichting | O19: nieuw te plaatsen | P19: 1
A20: 16700613 | B20: =IF(A20<>"","TP","") -> TP | C20: =IF(A20<>"",C19,"") -> 1 | D20: 10 | E20: =IF(A20<>"",E19+1,"") -> 19 | F20: Zwarte Molenstraat | G20: na 27 | H20: paar | I20: Paal 76 x 3200mm - RAL 7043 | N20: 1,5m | O20: nieuw te plaatsen | P20: 1
A21: 16700613 | B21: =IF(A21<>"","TP","") -> TP | C21: =IF(A21<>"",C20,"") -> 1 | D21: 10 | E21: =IF(A21<>"",E20+1,"") -> 20 | F21: Zwarte Molenstraat | G21: na 27 | H21: paar | I21: F4b - 600 x 900mm | M21: rijrichting | O21: nieuw te plaatsen | P21: 1
A22: 16700613 | B22: =IF(A22<>"","TP","") -> TP | C22: =IF(A22<>"",C21,"") -> 1 | D22: 11 | E22: =IF(A22<>"",E21+1,"") -> 21 | F22: Zwarte Molenstraat | G22: na 27 | H22: paar | I22: Paal 76 x 3200mm - RAL 7043 | N22: 1,5m | O22: nieuw te plaatsen | P22: 1
A23: 16700613 | B23: =IF(A23<>"","TP","") -> TP | C23: =IF(A23<>"",C22,"") -> 1 | D23: 11 | E23: =IF(A23<>"",E22+1,"") -> 22 | F23: Zwarte Molenstraat | G23: na 27 | H23: paar | I23: F3a - 600 x 900mm | J23: Elingen Pepingen | M23: rijrichting | O23: nieuw te plaatsen | P23: 1
A24: 16700613 | B24: =IF(A24<>"","TP","") -> TP | C24: =IF(A24<>"",C23,"") -> 1 | D24: 12 | E24: =IF(A24<>"",E23+1,"") -> 23 | F24: Zwarte Molenstraat | G24: na 27 | H24: paar | I24: Paal 76 x 3200mm - RAL 7043 | N24: 1,5m | O24: nieuw te plaatsen | P24: 1
A25: 16700613 | B25: =IF(A25<>"","TP","") -> TP | C25: =IF(A25<>"",C24,"") -> 1 | D25: 12 | E25: =IF(A25<>"",E24+1,"") -> 24 | F25: Zwarte Molenstraat | G25: na 27 | H25: paar | I25: C43 - ZONE - 600 x 900mm | J25: 50 | M25: rijrichting | O25: nieuw te plaatsen | P25: 1
A26: 16700613 | B26: =IF(A26<>"","TP","") -> TP | C26: =IF(A26<>"",C25,"") -> 1 | D26: 13 | E26: =IF(A26<>"",E25+1,"") -> 25 | F26: Borrestraat | G26: na 15 | H26: paar | I26: Paal 76 x 3200mm - RAL 7043 | N26: 1,5m | O26: nieuw te plaatsen | P26: 1
A27: 16700613 | B27: =IF(A27<>"","TP","") -> TP | C27: =IF(A27<>"",C26,"") -> 1 | D27: 13 | E27: =IF(A27<>"",E26+1,"") -> 26 | F27: Borrestraat | G27: na 15 | H27: paar | I27: F4b - 600 x 900mm | M27: rijrichting | O27: nieuw te plaatsen | P27: 1
A28: 16700613 | B28: =IF(A28<>"","TP","") -> TP | C28: =IF(A28<>"",C27,"") -> 1 | D28: 14 | E28: =IF(A28<>"",E27+1,"") -> 27 | F28: Borrestraat | G28: voor 15 | H28: onpaar | I28: Paal 76 x 3200mm - RAL 7043 | N28: 1,5m | O28: nieuw te plaatsen | P28: 1
A29: 16700613 | B29: =IF(A29<>"","TP","") -> TP | C29: =IF(A29<>"",C28,"") -> 1 | D29: 14 | E29: =IF(A29<>"",E28+1,"") -> 28 | F29: Borrestraat | G29: voor15 | H29: onpaar | I29: F4a - 600 x 900mm | M29: rijrichting | O29: nieuw te plaatsen | P29: 1
A30: 16700613 | B30: =IF(A30<>"","TP","") -> TP | C30: =IF(A30<>"",C29,"") -> 1 | D30: 15 | E30: =IF(A30<>"",E29+1,"") -> 29 | F30: Kwadestraat | G30: na # Borrestraat | I30: Paal 76 x 3200mm - RAL 7043 | N30: 1,5m | O30: nieuw te plaatsen | P30: 1
A31: 16700613 | B31: =IF(A31<>"","TP","") -> TP | C31: =IF(A31<>"",C30,"") -> 1 | D31: 15 | E31: =IF(A31<>"",E30+1,"") -> 30 | F31: Kwadestraat | G31: na # Borrestraat | I31: F3a - 600 x 900mm | J31: Elingen Pepingen | M31: rijrichting | O31: nieuw te plaatsen | P31: 1
A32: 16700613 | B32: =IF(A32<>"","TP","") -> TP | C32: =IF(A32<>"",C31,"") -> 1 | D32: 16 | E32: =IF(A32<>"",E31+1,"") -> 31 | F32: Kwadestraat | G32: na # Borrestraat | I32: Paal 76 x 3200mm - RAL 7043 | N32: 1,5m | O32: nieuw te plaatsen | P32: 1
A33: 16700613 | B33: =IF(A33<>"","TP","") -> TP | C33: =IF(A33<>"",C32,"") -> 1 | D33: 16 | E33: =IF(A33<>"",E32+1,"") -> 32 | F33: Kwadestraat | G33: na # Borrestraat | I33: C43 - ZONE - 600 x 900mm | J33: 50 | M33: rijrichting | O33: nieuw te plaatsen | P33: 1
A34: 16700613 | B34: =IF(A34<>"","TP","") -> TP | C34: =IF(A34<>"",C33,"") -> 1 | D34: 17 | E34: =IF(A34<>"",E33+1,"") -> 33 | F34: Kwadestraat | G34: voor # Borrestraat | I34: Paal 76 x 3200mm - RAL 7043 | N34: 1,5m | O34: nieuw te plaatsen | P34: 1
A35: 16700613 | B35: =IF(A35<>"","TP","") -> TP | C35: =IF(A35<>"",C34,"") -> 1 | D35: 17 | E35: =IF(A35<>"",E34+1,"") -> 34 | F35: Kwadestraat | G35: voor # Borrestraat | I35: F1a - 600 x 900mm | J35: Elingen Pepingen | M35: rijrichting | O35: nieuw te plaatsen | P35: 1
A36: 16700613 | B36: =IF(A36<>"","TP","") -> TP | C36: =IF(A36<>"",C35,"") -> 1 | D36: 18 | E36: =IF(A36<>"",E35+1,"") -> 35 | F36: Borrestraat | G36: na # Kwadestraat | H36: paar | I36: Paal 76 x 3200mm - RAL 7043 | N36: 1,5m | O36: nieuw te plaatsen | P36: 1
A37: 16700613 | B37: =IF(A37<>"","TP","") -> TP | C37: =IF(A37<>"",C36,"") -> 1 | D37: 18 | E37: =IF(A37<>"",E36+1,"") -> 36 | F37: Borrestraat | G37: na # Kwadestraat | H37: paar | I37: F3a - 600 x 900mm | J37: Elingen Pepingen | M37: rijrichting | O37: nieuw te plaatsen | P37: 1
A38: 16700613 | B38: =IF(A38<>"","TP","") -> TP | C38: =IF(A38<>"",C37,"") -> 1 | D38: 19 | E38: =IF(A38<>"",E37+1,"") -> 37 | F38: Borrestraat | G38: voor # Kwadestraat | H38: onpaar | I38: Paal 76 x 3200mm - RAL 7043 | N38: 1,5m | O38: nieuw te plaatsen | P38: 1
A39: 16700613 | B39: =IF(A39<>"","TP","") -> TP | C39: =IF(A39<>"",C38,"") -> 1 | D39: 19 | E39: =IF(A39<>"",E38+1,"") -> 38 | F39: Borrestraat | G39: voor # Kwadestraat | H39: onpaar | I39: F1a - 600 x 900mm | J39: Elingen Pepingen | M39: rijrichting | O39: nieuw te plaatsen | P39: 1
A40: 16700613 | B40: =IF(A40<>"","TP","") -> TP | C40: =IF(A40<>"",C39,"") -> 1 | D40: 20 | E40: =IF(A40<>"",E39+1,"") -> 39 | F40: Lennikseteenweg | G40: na 3 | H40: onpaar | I40: Paal 76 x 3200mm - RAL 7043 | N40: 1,5m | O40: nieuw te plaatsen | P40: 1
A41: 16700613 | B41: =IF(A41<>"","TP","") -> TP | C41: =IF(A41<>"",C40,"") -> 1 | D41: 20 | E41: =IF(A41<>"",E40+1,"") -> 40 | F41: Lennikseteenweg | G41: na 3 | H41: onpaar | I41: F3a - 600 x 900mm | J41: Elingen Pepingen | M41: rijrichting | O41: nieuw te plaatsen | P41: 1
A42: 16700613 | B42: =IF(A42<>"","TP","") -> TP | C42: =IF(A42<>"",C41,"") -> 1 | D42: 21 | E42: =IF(A42<>"",E41+1,"") -> 41 | F42: Lennikseteenweg | G42: na 3 | H42: onpaar | I42: Paal 76 x 3200mm - RAL 7043 | N42: 1,5m | O42: nieuw te plaatsen | P42: 1
A43: 16700613 | B43: =IF(A43<>"","TP","") -> TP | C43: =IF(A43<>"",C42,"") -> 1 | D43: 21 | E43: =IF(A43<>"",E42+1,"") -> 42 | F43: Lennikseteenweg | G43: na 3 | H43: onpaar | I43: C43 - ZONE - 600 x 900mm | J43: 50 | M43: rijrichting | O43: nieuw te plaatsen | P43: 1
A44: 16700613 | B44: =IF(A44<>"","TP","") -> TP | C44: =IF(A44<>"",C43,"") -> 1 | D44: 22 | E44: =IF(A44<>"",E43+1,"") -> 43 | F44: Lennikseteenweg | G44: voor 2 | H44: paar | I44: Paal 76 x 3200mm - RAL 7043 | N44: 1,5m | O44: nieuw te plaatsen | P44: 1
A45: 16700613 | B45: =IF(A45<>"","TP","") -> TP | C45: =IF(A45<>"",C44,"") -> 1 | D45: 22 | E45: =IF(A45<>"",E44+1,"") -> 44 | F45: Lennikseteenweg | G45: voor 2 | H45: paar | I45: F1a - 600 x 900mm | J45: Elingen Pepingen | M45: rijrichting | O45: nieuw te plaatsen | P45: 1
A46: 16700613 | B46: =IF(A46<>"","TP","") -> TP | C46: =IF(A46<>"",C45,"") -> 1 | D46: 23 | E46: =IF(A46<>"",E45+1,"") -> 45 | F46: Hoekstraat | G46: na 7 | H46: onpaar | I46: Paal 76 x 3200mm - RAL 7043 | N46: 1,5m | O46: nieuw te plaatsen | P46: 1
A47: 16700613 | B47: =IF(A47<>"","TP","") -> TP | C47: =IF(A47<>"",C46,"") -> 1 | D47: 23 | E47: =IF(A47<>"",E46+1,"") -> 46 | F47: Hoekstraat | G47: na 7 | H47: onpaar | I47: F3a - 600 x 900mm | J47: Elingen Pepingen | M47: rijrichting | O47: nieuw te plaatsen | P47: 1
A48: 16700613 | B48: =IF(A48<>"","TP","") -> TP | C48: =IF(A48<>"",C47,"") -> 1 | D48: 24 | E48: =IF(A48<>"",E47+1,"") -> 47 | F48: Hoekstraat | G48: voor 6 | H48: paar | I48: Paal 76 x 3200mm - RAL 7043 | N48: 1,5m | O48: nieuw te plaatsen | P48: 1
A49: 16700613 | B49: =IF(A49<>"","TP","") -> TP | C49: =IF(A49<>"",C48,"") -> 1 | D49: 24 | E49: =IF(A49<>"",E48+1,"") -> 48 | F49: Hoekstraat | G49: voor 6 | H49: paar | I49: F1a - 600 x 900mm | J49: Elingen Pepingen | M49: rijrichting | O49: nieuw te plaatsen | P49: 1
A50: 16700613 | B50: =IF(A50<>"","TP","") -> TP | C50: =IF(A50<>"",C49,"") -> 1 | D50: 25 | E50: =IF(A50<>"",E49+1,"") -> 49 | F50: Doornstraat | G50: na 8a | H50: paar | I50: Paal 76 x 3200mm - RAL 7043 | N50: 1,5m | O50: nieuw te plaatsen | P50: 1
A51: 16700613 | B51: =IF(A51<>"","TP","") -> TP | C51: =IF(A51<>"",C50,"") -> 1 | D51: 25 | E51: =IF(A51<>"",E50+1,"") -> 50 | F51: Doornstraat | G51: na 8a | H51: paar | I51: F3a - 600 x 900mm | J51: Elingen Pepingen | M51: rijrichting | O51: nieuw te plaatsen | P51: 1
A52: 16700613 | B52: =IF(A52<>"","TP","") -> TP | C52: =IF(A52<>"",C51,"") -> 1 | D52: 26 | E52: =IF(A52<>"",E51+1,"") -> 51 | F52: Doornstraat | G52: na 1a | H52: onpaar | I52: Paal 76 x 3200mm - RAL 7043 | N52: 1,5m | O52: nieuw te plaatsen | P52: 1
A53: 16700613 | B53: =IF(A53<>"","TP","") -> TP | C53: =IF(A53<>"",C52,"") -> 1 | D53: 26 | E53: =IF(A53<>"",E52+1,"") -> 52 | F53: Doornstraat | G53: na 1a | H53: onpaar | I53: F1a - 600 x 900mm | J53: Elingen Pepingen | M53: rijrichting | O53: nieuw te plaatsen | P53: 1
A54: 16700613 | B54: =IF(A54<>"","TP","") -> TP | C54: =IF(A54<>"",C53,"") -> 1 | D54: 27 | E54: =IF(A54<>"",E53+1,"") -> 53 | F54: Lennikseteenweg | G54: na # Dooprnstraat | H54: paar | I54: Paal 76 x 3200mm - RAL 7043 | N54: 1,5m | O54: nieuw te plaatsen | P54: 1
A55: 16700613 | B55: =IF(A55<>"","TP","") -> TP | C55: =IF(A55<>"",C54,"") -> 1 | D55: 27 | E55: =IF(A55<>"",E54+1,"") -> 54 | F55: Lennikseteenweg | G55: na # Dooprnstraat | H55: paar | I55: F3a - 600 x 900mm | J55: Elingen Pepingen | M55: rijrichting | O55: nieuw te plaatsen | P55: 1
A56: 16700613 | B56: =IF(A56<>"","TP","") -> TP | C56: =IF(A56<>"",C55,"") -> 1 | D56: 28 | E56: =IF(A56<>"",E55+1,"") -> 55 | F56: Lennikseteenweg | G56: voor # Doornstraat | H56: onpaar | I56: Paal 76 x 3200mm - RAL 7043 | N56: 1,5m | O56: nieuw te plaatsen | P56: 1
A57: 16700613 | B57: =IF(A57<>"","TP","") -> TP | C57: =IF(A57<>"",C56,"") -> 1 | D57: 28 | E57: =IF(A57<>"",E56+1,"") -> 56 | F57: Lennikseteenweg | G57: voor # Doornstraat | H57: onpaar | I57: F1a - 600 x 900mm | J57: Elingen Pepingen | M57: rijrichting | O57: nieuw te plaatsen | P57: 1
A58: 16700613 | B58: =IF(A58<>"","TP","") -> TP | C58: =IF(A58<>"",C57,"") -> 1 | D58: 29 | E58: =IF(A58<>"",E57+1,"") -> 57 | F58: Zwarte Molenstraat | G58: voor # Lenniksesteenweg | H58: onpaar | I58: C43 - EINDE ZONE - 600 x 900mm | J58: 50 | O58: verwijderen | P58: 1
A59: 16700613 | B59: =IF(A59<>"","TP","") -> TP | C59: =IF(A59<>"",C58,"") -> 1 | D59: 29 | E59: =IF(A59<>"",E58+1,"") -> 58 | F59: Zwarte Molenstraat | G59: voor # Lenniksesteenweg | H59: onpaar | I59: F4b - 600 x 900mm | M59: rijrichting | N59: 1,5m | O59: nieuw te plaatsen | P59: 1
A60: 16700613 | B60: =IF(A60<>"","TP","") -> TP | C60: =IF(A60<>"",C59,"") -> 1 | D60: 30 | E60: =IF(A60<>"",E59+1,"") -> 59 | F60: Zwarte Molenstraat | G60: na # Lenniksesteenweg | H60: paar | I60: C43 - ZONE - 600 x 900mm | J60: 50 | O60: verwijderen | P60: 1
A61: 16700613 | B61: =IF(A61<>"","TP","") -> TP | C61: =IF(A61<>"",C60,"") -> 1 | D61: 30 | E61: =IF(A61<>"",E60+1,"") -> 60 | F61: Zwarte Molenstraat | G61: na # Lenniksesteenweg | H61: paar | I61: F4a - 600 x 900mm | M61: rijrichting | N61: 1,5m | O61: nieuw te plaatsen | P61: 1
A62: 16700613 | B62: =IF(A62<>"","TP","") -> TP | C62: =IF(A62<>"",C61,"") -> 1 | D62: 31 | E62: =IF(A62<>"",E61+1,"") -> 61 | F62: Lennikseteenweg | G62: tegenover 5 | H62: paar | I62: C43 - 700mm | J62: 50 | O62: verwijderen | P62: 1
A63: 16700613 | B63: =IF(A63<>"","TP","") -> TP | C63: =IF(A63<>"",C62,"") -> 1 | D63: 31 | E63: =IF(A63<>"",E62+1,"") -> 62 | F63: Lennikseteenweg | G63: tegenover 5 | H63: paar | I63: bestaande paal | O63: verwijderen | P63: 1
A64: 16700613 | B64: =IF(A64<>"","TP","") -> TP | C64: =IF(A64<>"",C63,"") -> 1 | D64: 32 | E64: =IF(A64<>"",E63+1,"") -> 63 | F64: Lennikseteenweg | G64: voor 2 | H64: paar | I64: C43 - 700mm | O64: verwijderen | P64: 1
A65: 16700613 | B65: =IF(A65<>"","TP","") -> TP | C65: =IF(A65<>"",C64,"") -> 1 | D65: 32 | E65: =IF(A65<>"",E64+1,"") -> 64 | F65: Lennikseteenweg | G65: voor 2 | H65: paar | I65: Ia - 700 x 200mm | J65: 200m | O65: verwijderen | P65: 1
A66: 16700613 | B66: =IF(A66<>"","TP","") -> TP | C66: =IF(A66<>"",C65,"") -> 1 | D66: 32 | E66: =IF(A66<>"",E65+1,"") -> 65 | F66: Lennikseteenweg | G66: voor 2 | H66: paar | I66: bestaande paal | O66: verwijderen | P66: 1
A67: 16700613 | B67: =IF(A67<>"","TP","") -> TP | C67: =IF(A67<>"",C66,"") -> 1 | D67: 33 | E67: =IF(A67<>"",E66+1,"") -> 66 | F67: Lennikseteenweg | G67: na 3 | H67: onpaar | I67: C43 - ZONE - 400 x 600mm | J67: 70 | O67: verwijderen | P67: 1
A68: 16700613 | B68: =IF(A68<>"","TP","") -> TP | C68: =IF(A68<>"",C67,"") -> 1 | D68: 33 | E68: =IF(A68<>"",E67+1,"") -> 67 | F68: Lennikseteenweg | G68: na 3 | H68: onpaar | I68: bestaande paal | O68: verwijderen | P68: 1
A69: 16700613 | B69: =IF(A69<>"","TP","") -> TP | C69: =IF(A69<>"",C68,"") -> 1 | D69: 34 | E69: =IF(A69<>"",E68+1,"") -> 68 | F69: Lennikseteenweg | G69: 13 / 15 | H69: onpaar | I69: C43 - 700mm | J69: 50 | O69: verwijderen | P69: 1
A70: 16700613 | B70: =IF(A70<>"","TP","") -> TP | C70: =IF(A70<>"",C69,"") -> 1 | D70: 34 | E70: =IF(A70<>"",E69+1,"") -> 69 | F70: Lennikseteenweg | G70: 13 / 15 | H70: onpaar | I70: bestaande paal | O70: verwijderen | P70: 1
A71: 16700613 | B71: =IF(A71<>"","TP","") -> TP | C71: =IF(A71<>"",C70,"") -> 1 | D71: 35 | E71: =IF(A71<>"",E70+1,"") -> 70 | F71: Borrestraat | G71: voor # Lenniksesteenweg | H71: paar | I71: C43 - ZONE - 400 x 600mm | O71: verwijderen | P71: 1
A72: 16700613 | B72: =IF(A72<>"","TP","") -> TP | C72: =IF(A72<>"",C71,"") -> 1 | D72: 35 | E72: =IF(A72<>"",E71+1,"") -> 71 | F72: Borrestraat | G72: voor # Lenniksesteenweg | H72: paar | I72: bestaande paal | O72: verwijderen | P72: 1
A73: 16700613 | B73: =IF(A73<>"","TP","") -> TP | C73: =IF(A73<>"",C72,"") -> 1 | D73: 36 | E73: =IF(A73<>"",E72+1,"") -> 72 | F73: Borrestraat | G73: na # Lenniksesteenweg | H73: onpaar | I73: C43 - ZONE - 400 x 600mm | O73: verwijderen | P73: 1
A74: 16700613 | B74: =IF(A74<>"","TP","") -> TP | C74: =IF(A74<>"",C73,"") -> 1 | D74: 36 | E74: =IF(A74<>"",E73+1,"") -> 73 | F74: Borrestraat | G74: na # Lenniksesteenweg | H74: onpaar | I74: bestaande paal | O74: verwijderen | P74: 1
A75: 16700613 | B75: =IF(A75<>"","TP","") -> TP | C75: =IF(A75<>"",C74,"") -> 1 | D75: 37 | E75: =IF(A75<>"",E74+1,"") -> 74 | F75: Lennikseteenweg | G75: voor 14 | H75: paar | I75: Ia - 700 x 200mm | J75: 200m | O75: verwijderen | P75: 1
A76: 16700613 | B76: =IF(A76<>"","TP","") -> TP | C76: =IF(A76<>"",C75,"") -> 1 | D76: 37 | E76: =IF(A76<>"",E75+1,"") -> 75 | F76: Lennikseteenweg | G76: voor 14 | H76: paar | I76: bestaande paal | O76: verwijderen | P76: 1
A77: 16700613 | B77: =IF(A77<>"","TP","") -> TP | C77: =IF(A77<>"",C76,"") -> 1 | D77: 38 | E77: =IF(A77<>"",E76+1,"") -> 76 | F77: Hoekstraat | G77: 1 | H77: onpaar | I77: Ia - 700 x 200mm | J77: 200m | O77: verwijderen | P77: 1
A78: 16700613 | B78: =IF(A78<>"","TP","") -> TP | C78: =IF(A78<>"",C77,"") -> 1 | D78: 38 | E78: =IF(A78<>"",E77+1,"") -> 77 | F78: Hoekstraat | G78: 1 | H78: onpaar | I78: bestaande paal | O78: verwijderen | P78: 1
A79: 16700613 | B79: =IF(A79<>"","TP","") -> TP | C79: =IF(A79<>"",C78,"") -> 1 | D79: 39 | E79: =IF(A79<>"",E78+1,"") -> 78 | F79: Lennikseteenweg | G79: na # Zwarte Molenstraat | H79: paar | I79: Ia - 700 x 200mm | J79: 200m | O79: verwijderen | P79: 1
A80: 16700613 | B80: =IF(A80<>"","TP","") -> TP | C80: =IF(A80<>"",C79,"") -> 1 | D80: 39 | E80: =IF(A80<>"",E79+1,"") -> 79 | F80: Lennikseteenweg | G80: na # Zwarte Molenstraat | H80: paar | I80: bestaande paal | O80: verwijderen | P80: 1
A81: 16700613 | B81: =IF(A81<>"","TP","") -> TP | C81: =IF(A81<>"",C80,"") -> 1 | D81: 40 | E81: =IF(A81<>"",E80+1,"") -> 80 | F81: Lennikseteenweg | G81: voor # Doornstraat | H81: onpaar | I81: C43 - 700mm | O81: verwijderen | P81: 1
A82: 16700613 | B82: =IF(A82<>"","TP","") -> TP | C82: =IF(A82<>"",C81,"") -> 1 | D82: 40 | E82: =IF(A82<>"",E81+1,"") -> 81 | F82: Lennikseteenweg | G82: voor # Doornstraat | H82: onpaar | I82: Ia - 700 x 200mm | J82: 200m | O82: verwijderen | P82: 1
A83: 16700613 | B83: =IF(A83<>"","TP","") -> TP | C83: =IF(A83<>"",C82,"") -> 1 | D83: 40 | E83: =IF(A83<>"",E82+1,"") -> 82 | F83: Lennikseteenweg | G83: voor # Doornstraat | H83: onpaar | I83: bestaande paal | O83: verwijderen | P83: 1
A84: 16700613 | B84: =IF(A84<>"","TP","") -> TP | C84: =IF(A84<>"",C83,"") -> 1 | D84: 41 | E84: =IF(A84<>"",E83+1,"") -> 83 | F84: Lennikseteenweg | G84: voor # Doornstraat | H84: onpaar | I84: Ia - 700 x 200mm | J84: 200m | O84: verwijderen | P84: 1
A85: 16700613 | B85: =IF(A85<>"","TP","") -> TP | C85: =IF(A85<>"",C84,"") -> 1 | D85: 41 | E85: =IF(A85<>"",E84+1,"") -> 84 | F85: Lennikseteenweg | G85: voor # Doornstraat | H85: onpaar | I85: bestaande paal | O85: verwijderen | P85: 1
A86: 16700613 | B86: =IF(A86<>"","TP","") -> TP | C86: =IF(A86<>"",C85,"") -> 1 | D86: 42 | E86: =IF(A86<>"",E85+1,"") -> 85 | F86: Doornstraat | G86: na # Lenniksesteenweg | H86: paar | I86: C43 - ZONE - 400 x 600mm | J86: 70 | O86: verwijderen | P86: 1
A87: 16700613 | B87: =IF(A87<>"","TP","") -> TP | C87: =IF(A87<>"",C86,"") -> 1 | D87: 42 | E87: =IF(A87<>"",E86+1,"") -> 86 | F87: Doornstraat | G87: na # Lenniksesteenweg | H87: paar | I87: bestaande paal | O87: verwijderen | P87: 1
A88: 16700613 | B88: =IF(A88<>"","TP","") -> TP | C88: =IF(A88<>"",C87,"") -> 1 | D88: 43 | E88: =IF(A88<>"",E87+1,"") -> 87 | F88: Eikstraat | G88: voor # Grote Baan | H88: onpaar | I88: Paal 76 x 3200mm - RAL 7043 | N88: 1,5m | O88: nieuw te plaatsen | P88: 1
A89: 16700613 | B89: =IF(A89<>"","TP","") -> TP | C89: =IF(A89<>"",C88,"") -> 1 | D89: 43 | E89: =IF(A89<>"",E88+1,"") -> 88 | F89: Eikstraat | G89: voor # Grote Baan | H89: onpaar | I89: F1a - 600 x 900mm | J89: Beert Pepingen | M89: rijrichting | O89: nieuw te plaatsen | P89: 1
A90: 16700613 | B90: =IF(A90<>"","TP","") -> TP | C90: =IF(A90<>"",C89,"") -> 1 | D90: 44 | E90: =IF(A90<>"",E89+1,"") -> 89 | F90: Eikstraat | G90: na # Grote Baan | H90: paar | I90: Paal 76 x 3200mm - RAL 7043 | N90: 1,5m | O90: nieuw te plaatsen | P90: 1
A91: 16700613 | B91: =IF(A91<>"","TP","") -> TP | C91: =IF(A91<>"",C90,"") -> 1 | D91: 44 | E91: =IF(A91<>"",E90+1,"") -> 90 | F91: Eikstraat | G91: na # Grote Baan | H91: paar | I91: F3a - 600 x 900mm | J91: Beert Pepingen | M91: rijrichting | O91: nieuw te plaatsen | P91: 1
A92: 16700613 | B92: =IF(A92<>"","TP","") -> TP | C92: =IF(A92<>"",C91,"") -> 1 | D92: 45 | E92: =IF(A92<>"",E91+1,"") -> 91 | F92: Galgenstraat | G92: voor # Eikstraat | I92: Paal 76 x 3200mm - RAL 7043 | N92: 1,5m | O92: nieuw te plaatsen | P92: 1
A93: 16700613 | B93: =IF(A93<>"","TP","") -> TP | C93: =IF(A93<>"",C92,"") -> 1 | D93: 45 | E93: =IF(A93<>"",E92+1,"") -> 92 | F93: Galgenstraat | G93: voor # Eikstraat | I93: F1a - 600 x 900mm | J93: Beert Pepingen | M93: rijrichting | O93: nieuw te plaatsen | P93: 1
A94: 16700613 | B94: =IF(A94<>"","TP","") -> TP | C94: =IF(A94<>"",C93,"") -> 1 | D94: 46 | E94: =IF(A94<>"",E93+1,"") -> 93 | F94: Galgenstraat | G94: na # Eikstraat | I94: Paal 76 x 3200mm - RAL 7043 | N94: 1,5m | O94: nieuw te plaatsen | P94: 1
A95: 16700613 | B95: =IF(A95<>"","TP","") -> TP | C95: =IF(A95<>"",C94,"") -> 1 | D95: 46 | E95: =IF(A95<>"",E94+1,"") -> 94 | F95: Galgenstraat | G95: na # Eikstraat | I95: F3a - 600 x 900mm | J95: Beert Pepingen | M95: rijrichting | O95: nieuw te plaatsen | P95: 1
A96: 16700613 | B96: =IF(A96<>"","TP","") -> TP | C96: =IF(A96<>"",C95,"") -> 1 | D96: 47 | E96: =IF(A96<>"",E95+1,"") -> 95 | F96: Kiethomstraat | G96: voor 1 | I96: Paal 76 x 3200mm - RAL 7043 | N96: 1,5m | O96: nieuw te plaatsen | P96: 1
A97: 16700613 | B97: =IF(A97<>"","TP","") -> TP | C97: =IF(A97<>"",C96,"") -> 1 | D97: 47 | E97: =IF(A97<>"",E96+1,"") -> 96 | F97: Kiethomstraat | G97: voor 1 | I97: F1a - 600 x 900mm | J97: Beert Pepingen | M97: rijrichting | O97: nieuw te plaatsen | P97: 1
A98: 16700613 | B98: =IF(A98<>"","TP","") -> TP | C98: =IF(A98<>"",C97,"") -> 1 | D98: 48 | E98: =IF(A98<>"",E97+1,"") -> 97 | F98: Kiethomstraat | G98: na 1 | I98: Paal 76 x 3200mm - RAL 7043 | N98: 1,5m | O98: nieuw te plaatsen | P98: 1
A99: 16700613 | B99: =IF(A99<>"","TP","") -> TP | C99: =IF(A99<>"",C98,"") -> 1 | D99: 48 | E99: =IF(A99<>"",E98+1,"") -> 98 | F99: Kiethomstraat | G99: na 1 | I99: F3a - 600 x 900mm | J99: Beert Pepingen | M99: rijrichting | O99: nieuw te plaatsen | P99: 1
A100: 16700613 | B100: =IF(A100<>"","TP","") -> TP | C100: =IF(A100<>"",C99,"") -> 1 | D100: 49 | E100: =IF(A100<>"",E99+1,"") -> 99 | F100: Eikstraat | G100: voor # Kiethomstraat | I100: Paal 76 x 3200mm - RAL 7043 | N100: 1,5m | O100: nieuw te plaatsen | P100: 1
...

Sheet Wegmarkeringen
A1: PLAN | C1: VERSIE | D1: OPSTELLING | E1: ID | F1: LOCATIE | G1: SUBLOCATIE | I1: ITEM | J1: LENGTE m | K1: NETTO m² | L1: ST | M1: NETTO m² | N1: OPP BRUTO m² | O1: OPP NETTO m² | P1: Actie | Q1: Opmerking
A2: 16700613 | B2: =IF(A2<>"","TP","") -> TP | C2: V01 | D2: W1 | E2: 1 | F2: Mortagnestraat | G2: DIV | H2: 31 | I2: =IF(H2<>"",LOOKUP(H2,List!$C$1:$C$1000,List!$D$1:$D$1000),"") -> Fietsstraat reproductie F111 - 1,20m x 1,80m | K2: =IF(J2<>"",J2*LOOKUP(H2,List!$C$1:$C$1000,List!$E$1:$E$1000),"") | L2: 4 | M2: =IF(L2<>"",L2*LOOKUP(H2,List!$C$1:$C$1000,List!$E$1:$E$1000),"") -> 0 | O2: =IF(N2<>"",N2*LOOKUP(H2,List!$C$1:$C$1000:'List'!$E$1:$E$1000),"") | P2: nieuw te plaatsen
A3: 16700613 | B3: =IF(A3<>"","TP","") -> TP | C3: =IF(A3<>"",C2,"") -> V01 | D3: W1 | E3: =IF(A3<>"",E2+1,"") -> 2 | F3: Kouterstraat | G3: DIV | H3: 31 | I3: =IF(H3<>"",LOOKUP(H3,List!$C$1:$C$1000,List!$D$1:$D$1000),"") -> Fietsstraat reproductie F111 - 1,20m x 1,80m | K3: =IF(J3<>"",J3*LOOKUP(H3,List!$C$1:$C$1000,List!$E$1:$E$1000),"") | L3: 2 | M3: =IF(L3<>"",L3*LOOKUP(H3,List!$C$1:$C$1000,List!$E$1:$E$1000),"") -> 0 | O3: =IF(N3<>"",N3*LOOKUP(H3,List!$C$1:$C$1000:'List'!$E$1:$E$1000),"") | P3: nieuw te plaatsen
A4: 16700613 | B4: =IF(A4<>"","TP","") -> TP | C4: =IF(A4<>"",C3,"") -> V01 | D4: W2 | E4: =IF(A4<>"",E3+1,"") -> 3 | F4: Mortagnestraat | G4: DIV | H4: 10 | I4: =IF(H4<>"",LOOKUP(H4,List!$C$1:$C$1000,List!$D$1:$D$1000),"") -> Symbool fiets - 0,90 x 1,53m | K4: =IF(J4<>"",J4*LOOKUP(H4,List!$C$1:$C$1000,List!$E$1:$E$1000),"") | L4: 70 | M4: =IF(L4<>"",L4*LOOKUP(H4,List!$C$1:$C$1000,List!$E$1:$E$1000),"") -> 34.72 | O4: =IF(N4<>"",N4*LOOKUP(H4,List!$C$1:$C$1000:'List'!$E$1:$E$1000),"") | P4: nieuw te plaatsen
A5: 16700613 | B5: =IF(A5<>"","TP","") -> TP | C5: =IF(A5<>"",C4,"") -> V01 | D5: W3 | E5: =IF(A5<>"",E4+1,"") -> 4 | F5: Mortagnestraat | G5: DIV | H5: 33 | I5: =IF(H5<>"",LOOKUP(H5,List!$C$1:$C$1000,List!$D$1:$D$1000),"") -> Enkele pijl op fietspad type H1 - 1,50m x 0,50m | K5: =IF(J5<>"",J5*LOOKUP(H5,List!$C$1:$C$1000,List!$E$1:$E$1000),"") | L5: 70 | M5: =IF(L5<>"",L5*LOOKUP(H5,List!$C$1:$C$1000,List!$E$1:$E$1000),"") -> 10.325 | O5: =IF(N5<>"",N5*LOOKUP(H5,List!$C$1:$C$1000:'List'!$E$1:$E$1000),"") | P5: nieuw te plaatsen
A6: 16700613 | B6: =IF(A6<>"","TP","") -> TP | C6: =IF(A6<>"",C5,"") -> V01 | D6: W2 | E6: =IF(A6<>"",E5+1,"") -> 5 | F6: Kouterstraat | G6: DIV | H6: 10 | I6: =IF(H6<>"",LOOKUP(H6,List!$C$1:$C$1000,List!$D$1:$D$1000),"") -> Symbool fiets - 0,90 x 1,53m | K6: =IF(J6<>"",J6*LOOKUP(H6,List!$C$1:$C$1000,List!$E$1:$E$1000),"") | L6: 70 | M6: =IF(L6<>"",L6*LOOKUP(H6,List!$C$1:$C$1000,List!$E$1:$E$1000),"") -> 34.72 | O6: =IF(N6<>"",N6*LOOKUP(H6,List!$C$1:$C$1000:'List'!$E$1:$E$1000),"") | P6: nieuw te plaatsen
A7: 16700613 | B7: =IF(A7<>"","TP","") -> TP | C7: =IF(A7<>"",C6,"") -> V01 | D7: W3 | E7: =IF(A7<>"",E6+1,"") -> 6 | F7: Kouterstraat | G7: DIV | H7: 33 | I7: =IF(H7<>"",LOOKUP(H7,List!$C$1:$C$1000,List!$D$1:$D$1000),"") -> Enkele pijl op fietspad type H1 - 1,50m x 0,50m | K7: =IF(J7<>"",J7*LOOKUP(H7,List!$C$1:$C$1000,List!$E$1:$E$1000),"") | L7: 70 | M7: =IF(L7<>"",L7*LOOKUP(H7,List!$C$1:$C$1000,List!$E$1:$E$1000),"") -> 10.325 | O7: =IF(N7<>"",N7*LOOKUP(H7,List!$C$1:$C$1000:'List'!$E$1:$E$1000),"") | P7: nieuw te plaatsen
A8: 16700613 | B8: =IF(A8<>"","TP","") -> TP | C8: =IF(A8<>"",C7,"") -> V01 | D8: W4 | E8: =IF(A8<>"",E7+1,"") -> 7 | F8: Kouterstraat | G8: DIV | H8: 87 | I8: =IF(H8<>"",LOOKUP(H8,List!$C$1:$C$1000,List!$D$1:$D$1000),"") -> Opschrift "30" - 1,28m x 2,40m | K8: =IF(J8<>"",J8*LOOKUP(H8,List!$C$1:$C$1000,List!$E$1:$E$1000),"") | L8: 2 | M8: =IF(L8<>"",L8*LOOKUP(H8,List!$C$1:$C$1000,List!$E$1:$E$1000),"") -> 2.92 | O8: =IF(N8<>"",N8*LOOKUP(H8,List!$C$1:$C$1000:'List'!$E$1:$E$1000),"") | P8: nieuw te plaatsen
A9: 16700613 | B9: =IF(A9<>"","TP","") -> TP | C9: =IF(A9<>"",C8,"") -> V01 | D9: W4 | E9: =IF(A9<>"",E8+1,"") -> 8 | F9: Mortagnestraat | H9: 87 | I9: =IF(H9<>"",LOOKUP(H9,List!$C$1:$C$1000,List!$D$1:$D$1000),"") -> Opschrift "30" - 1,28m x 2,40m | K9: =IF(J9<>"",J9*LOOKUP(H9,List!$C$1:$C$1000,List!$E$1:$E$1000),"") | L9: 4 | M9: =IF(L9<>"",L9*LOOKUP(H9,List!$C$1:$C$1000,List!$E$1:$E$1000),"") -> 5.84 | O9: =IF(N9<>"",N9*LOOKUP(H9,List!$C$1:$C$1000:'List'!$E$1:$E$1000),"") | P9: nieuw te plaatsen
B10: =IF(A10<>"","TP","") | C10: =IF(A10<>"",C9,"") | E10: =IF(A10<>"",E9+1,"") | I10: =IF(H10<>"",LOOKUP(H10,List!$C$1:$C$1000,List!$D$1:$D$1000),"") | K10: =IF(J10<>"",J10*LOOKUP(H10,List!$C$1:$C$1000,List!$E$1:$E$1000),"") | M10: =IF(L10<>"",L10*LOOKUP(H10,List!$C$1:$C$1000,List!$E$1:$E$1000),"") | O10: =IF(N10<>"",N10*LOOKUP(H10,List!$C$1:$C$1000:'List'!$E$1:$E$1000),"")
B11: =IF(A11<>"","TP","") | C11: =IF(A11<>"",C10,"") | E11: =IF(A11<>"",E10+1,"") | I11: =IF(H11<>"",LOOKUP(H11,List!$C$1:$C$1000,List!$D$1:$D$1000),"") | K11: =IF(J11<>"",J11*LOOKUP(H11,List!$C$1:$C$1000,List!$E$1:$E$1000),"") | M11: =IF(L11<>"",L11*LOOKUP(H11,List!$C$1:$C$1000,List!$E$1:$E$1000),"") | O11: =IF(N11<>"",N11*LOOKUP(H11,List!$C$1:$C$1000:'List'!$E$1:$E$1000),"")
B12: =IF(A12<>"","TP","") | C12: =IF(A12<>"",C11,"") | E12: =IF(A12<>"",E11+1,"") | I12: =IF(H12<>"",LOOKUP(H12,List!$C$1:$C$1000,List!$D$1:$D$1000),"") | K12: =IF(J12<>"",J12*LOOKUP(H12,List!$C$1:$C$1000,List!$E$1:$E$1000),"") | M12: =IF(L12<>"",L12*LOOKUP(H12,List!$C$1:$C$1000,List!$E$1:$E$1000),"") | O12: =IF(N12<>"",N12*LOOKUP(H12,List!$C$1:$C$1000:'List'!$E$1:$E$1000),"")
B13: =IF(A13<>"","TP","") | C13: =IF(A13<>"",C12,"") | E13: =IF(A13<>"",E12+1,"") | I13: =IF(H13<>"",LOOKUP(H13,List!$C$1:$C$1000,List!$D$1:$D$1000),"") | K13: =IF(J13<>"",J13*LOOKUP(H13,List!$C$1:$C$1000,List!$E$1:$E$1000),"") | M13: =IF(L13<>"",L13*LOOKUP(H13,List!$C$1:$C$1000,List!$E$1:$E$1000),"") | O13: =IF(N13<>"",N13*LOOKUP(H13,List!$C$1:$C$1000:'List'!$E$1:$E$1000),"")
B14: =IF(A14<>"","TP","") | C14: =IF(A14<>"",C13,"") | E14: =IF(A14<>"",E13+1,"") | I14: =IF(H14<>"",LOOKUP(H14,List!$C$1:$C$1000,List!$D$1:$D$1000),"") | K14: =IF(J14<>"",J14*LOOKUP(H14,List!$C$1:$C$1000,List!$E$1:$E$1000),"") | M14: =IF(L14<>"",L14*LOOKUP(H14,List!$C$1:$C$1000,List!$E$1:$E$1000),"") | O14: =IF(N14<>"",N14*LOOKUP(H14,List!$C$1:$C$1000:'List'!$E$1:$E$1000),"")
B15: =IF(A15<>"","TP","") | C15: =IF(A15<>"",C14,"") | E15: =IF(A15<>"",E14+1,"") | I15: =IF(H15<>"",LOOKUP(H15,List!$C$1:$C$1000,List!$D$1:$D$1000),"") | K15: =IF(J15<>"",J15*LOOKUP(H15,List!$C$1:$C$1000,List!$E$1:$E$1000),"") | M15: =IF(L15<>"",L15*LOOKUP(H15,List!$C$1:$C$1000,List!$E$1:$E$1000),"") | O15: =IF(N15<>"",N15*LOOKUP(H15,List!$C$1:$C$1000:'List'!$E$1:$E$1000),"")
B16: =IF(A16<>"","TP","") | C16: =IF(A16<>"",C15,"") | E16: =IF(A16<>"",E15+1,"") | I16: =IF(H16<>"",LOOKUP(H16,List!$C$1:$C$1000,List!$D$1:$D$1000),"") | K16: =IF(J16<>"",J16*LOOKUP(H16,List!$C$1:$C$1000,List!$E$1:$E$1000),"") | M16: =IF(L16<>"",L16*LOOKUP(H16,List!$C$1:$C$1000,List!$E$1:$E$1000),"") | O16: =IF(N16<>"",N16*LOOKUP(H16,List!$C$1:$C$1000:'List'!$E$1:$E$1000),"")
B17: =IF(A17<>"","TP","") | C17: =IF(A17<>"",C16,"") | E17: =IF(A17<>"",E16+1,"") | I17: =IF(H17<>"",LOOKUP(H17,List!$C$1:$C$1000,List!$D$1:$D$1000),"") | K17: =IF(J17<>"",J17*LOOKUP(H17,List!$C$1:$C$1000,List!$E$1:$E$1000),"") | M17: =IF(L17<>"",L17*LOOKUP(H17,List!$C$1:$C$1000,List!$E$1:$E$1000),"") | O17: =IF(N17<>"",N17*LOOKUP(H17,List!$C$1:$C$1000:'List'!$E$1:$E$1000),"")
B18: =IF(A18<>"","TP","") | C18: =IF(A18<>"",C17,"") | E18: =IF(A18<>"",E17+1,"") | I18: =IF(H18<>"",LOOKUP(H18,List!$C$1:$C$1000,List!$D$1:$D$1000),"") | K18: =IF(J18<>"",J18*LOOKUP(H18,List!$C$1:$C$1000,List!$E$1:$E$1000),"") | M18: =IF(L18<>"",L18*LOOKUP(H18,List!$C$1:$C$1000,List!$E$1:$E$1000),"") | O18: =IF(N18<>"",N18*LOOKUP(H18,List!$C$1:$C$1000:'List'!$E$1:$E$1000),"")
B19: =IF(A19<>"","TP","") | C19: =IF(A19<>"",C18,"") | E19: =IF(A19<>"",E18+1,"") | I19: =IF(H19<>"",LOOKUP(H19,List!$C$1:$C$1000,List!$D$1:$D$1000),"") | K19: =IF(J19<>"",J19*LOOKUP(H19,List!$C$1:$C$1000,List!$E$1:$E$1000),"") | M19: =IF(L19<>"",L19*LOOKUP(H19,List!$C$1:$C$1000,List!$E$1:$E$1000),"") | O19: =IF(N19<>"",N19*LOOKUP(H19,List!$C$1:$C$1000:'List'!$E$1:$E$1000),"")
B20: =IF(A20<>"","TP","") | C20: =IF(A20<>"",C19,"") | E20: =IF(A20<>"",E19+1,"") | I20: =IF(H20<>"",LOOKUP(H20,List!$C$1:$C$1000,List!$D$1:$D$1000),"") | K20: =IF(J20<>"",J20*LOOKUP(H20,List!$C$1:$C$1000,List!$E$1:$E$1000),"") | M20: =IF(L20<>"",L20*LOOKUP(H20,List!$C$1:$C$1000,List!$E$1:$E$1000),"") | O20: =IF(N20<>"",N20*LOOKUP(H20,List!$C$1:$C$1000:'List'!$E$1:$E$1000),"")
B21: =IF(A21<>"","TP","") | C21: =IF(A21<>"",C20,"") | E21: =IF(A21<>"",E20+1,"") | I21: =IF(H21<>"",LOOKUP(H21,List!$C$1:$C$1000,List!$D$1:$D$1000),"") | K21: =IF(J21<>"",J21*LOOKUP(H21,List!$C$1:$C$1000,List!$E$1:$E$1000),"") | M21: =IF(L21<>"",L21*LOOKUP(H21,List!$C$1:$C$1000,List!$E$1:$E$1000),"") | O21: =IF(N21<>"",N21*LOOKUP(H21,List!$C$1:$C$1000:'List'!$E$1:$E$1000),"")
... B2000: =IF(A2000<>"","TP","") | C2000: =IF(A2000<>"",C1999,"") | E2000: =IF(A2000<>"",E1999+1,"") | I2000: =IF(H2000<>"",LOOKUP(H2000,List!$C$1:$C$1000,List!$D$1:$D$1000),"") | K2000: =IF(J2000<>"",J2000*LOOKUP(H2000,List!$C$1:$C$1000,List!$E$1:$E$1000),"") | M2000: =IF(L2000<>"",L2000*LOOKUP(H2000,List!$C$1:$C$1000,List!$E$1:$E$1000),"") | O2000: =IF(N2000<>"",N2000*LOOKUP(H2000,List!$C$1:$C$1000:'List'!$E$1:$E$1000),"")

Sheet Infrastructuur

Sheet List
A1: Bestaande paal | B1: Fietslogo en horizontaal dubbel pijlenpaar | C1: 1 | D1: Werkelijke rand van de rijbaan - 0,15m breed | E1: 0.15
A2: Bestaande geveluitkraging | B2: Rolstoelsymbool | C2: 2 | D2: Werkelijke rand van de rijbaan - onderbroken gele streep - 0,15m breed | E2: 0.075
A3: Geveluitkraging | B3: S01 - Luchthaven | C3: 3 | D3: Denkbeeldige rand van de rijbaan - 0,20m breed | E3: 0.2
A4: Paal 51 x 2000mm - RAL 2009 | B4: S02 - Beurs- of tentoonstellingshal | C4: 4 | D4: Denkbeeldige rand van de rijbaan - 0,25m breed | E4: 0.25
A5: Paal 51 x 2000mm - RAL 7043 | B5: S03 - Haven | C5: 5 | D5: Doorlopende streep rijstrook - 0,15m breed | E5: 0.15
A6: Paal 51 x 2330mm - RAL 2009 | B6: S04 - Car-Ferry | C6: 6 | D6: Onderbroken streep rijstrook - 0,15m x 2,50m hiaat 10m | E6: 0.03
A7: Paal 51 x 2330mm - RAL 7043 | B7: S05 - Befrijf- en industriepark | C7: 7 | D7: Naderingsmarkering rijstrook - 0,15m x 1,00m hiaat 1,50m | E7: 0.06
A8: Paal 51 x 2500mm - RAL 2009 | B8: S10 - Politiediensten | C8: 8 | D8: Afbakening busstrook - 0,30m x 2,5m hiaat 1,00m | E8: 0.21428571
A9: Paal 51 x 2500mm - RAL 7043 | B9: S11 - Brandweer | C9: 9 | D9: Busstrook opschrift "BUS" - 1,40m x 2,50m | E9: 1.396
A10: Paal 51 x 3000mm - RAL 2009 | B10: S12 - Civiele bescherming | C10: 10 | D10: Symbool fiets - 0,90 x 1,53m | E10: 0.496
A11: Paal 51 x 3000mm - RAL 7043 | B11: S13 - Begraafplaats | C11: 11 | D11: Symbool fiets - 0,45 x 0,765m | E11: 0.124
A12: Paal 51 x 3500mm - RAL 2009 | B12: S14 - Busstation | C12: 12 | D12: Busstrook symbool woon- werkverkeer - 1,50m x 1,50m | E12: 0.93
... A30: Paal 76 x 3000mm - RAL 2009 | B30: Sportsymbool - hockey | C30: 30 | D30: Verbindingsmarkering - 2 x (0,15m x 0,15m hiaat 0,15) hiaat 0,30 | E30: 0.06
A31: Paal 76 x 3000mm - RAL 7043 | B31: Sportsymbool - ijsschaatsbaan | C31: 31 | D31: Fietsstraat reproductie F111 - 1,20m x 1,80m
A32: Paal 76 x 3200mm - RAL 2009 | B32: Sportsymbool - kano - kayak | C32: 32 | D32: Dubbele pijl op fietspad type H1 - 2 x (1,50m x 0,50m) | E32: 0.295
A33: Paal 76 x 3200mm - RAL 7043 | B33: Sportsymbool - langlauf | C33: 33 | D33: Enkele pijl op fietspad type H1 - 1,50m x 0,50m | E33: 0.1475
A34: Paal 76 x 3340mm - RAL 2009 | B34: Sportsymbool - roeien | C34: 34 | D34: Voorsorteringspijl fietspad type H2 - 2,50m x 0,51m | E34: 0.47
A35: Paal 76 x 3340mm - RAL 7043 | B35: Sportsymbool - ruitersport | C35: 35 | D35: Voorsorteringspijl type A | E35: 1.211
A36: Paal 76 x 3500mm - RAL 2009 | B36: Sportsymbool - schietstand | C36: 36 | D36: Voorsorteringspijl type B1 | E36: 2.187
A37: Paal 76 x 3500mm - RAL 7043 | B37: Sportsymbool - tennis | C37: 37 | D37: Voorsorteringspijl type B2 | E37: 2.187
A38: Paal 76 x 3800mm - RAL 2009 | B38: Sportsymbool - voetbalstation | C38: 38 | D38: Voorsorteringspijl type C1 | E38: 1.504
A39: Paal 76 x 3800mm - RAL 7043 | B39: Sportsymbool - waterski | C39: 39 | D39: Voorsorteringspijl type C2 | E39: 1.504
A40: Paal 76 x 4000mm - RAL 2009 | B40: Sportsymbool - wielersport | C40: 40 | D40: Voorsorteringspijl type C3 | E40: 1.631
A41: Paal 76 x 4000mm - RAL 7043 | B41: Sportsymbool - zeilen | C41: 41 | D41: Voorsorteringspijl type C4 | E41: 1.631
A42: Paal 76 x 4200mm - RAL 2009 | B42: Sportsymbool - zwembad | C42: 42 | D42: Voorsorteringspijl type D | E42: 2.489
A43: Paal 76 x 4200mm - RAL 7043 | B43: Symbool elektrisch laadpunt | C43: 43 | D43: Voorsorteringspijl type E | E43: 3.162
... A62: Paal 89 x 2000mm - RAL 2009 | B62: Symbool vrachtauto | C62: 62 | D62: Rijstrookverminderingspijl type G2 | E62: 4.185
A63: Paal 89 x 2000mm - RAL 7043 | C63: 63 | D63: Bushalte - letters BUS 2,00m | E63: 4.891
A64: Paal 89 x 3000mm - RAL 2009 | C64: 64 | D64: Standaard bushalte 30m met bushaltemarkering - 2,80m breed | E64: 18.155
A65: Paal 89 x 3000mm - RAL 7043 | C65: 65 | D65: Standaard bushalte 30m met bushaltemarkering - 3,00m breed | E65: 18.534
A66: Paal 89 x 4000mm - RAL 2009 | C66: 66 | D66: Verlengde bushalte 45m met bushaltemarkering - 2,50m breed | E66: 26.346
A67: Paal 89 x 4000mm - RAL 7043 | C67: 67 | D67: Verlengde bushalte 45m met bushaltemarkering - 3,00m breed | E67: 26.725
A68: Paal 89 x 4500mm - RAL 2009 | C68: 68 | D68: Dambordmarkering - 0,50m x 0,50m | E68: 0.5
A69: Paal 89 x 4500mm - RAL 7043 | C69: 69 | D69: Stopstreep | E69: 0.5
A70: Paal 89 x 5000mm - RAL 2009 | C70: 70 | D70: Doorlopende naderingsstreep stopstreep - 0,15m breed | E70: 0.15
A71: Paal 89 x 5000mm - RAL 7043 | C71: 71 | D71: Dwarsstreep door witte driehoeken 0,50m x 0,70m - aantal driehoeken | E71: 0.175
A72: Paal 89 x 5500mm - RAL 2009 | C72: 72 | D72: Doorlopende naderingsstreep dwarsstreep drieheoeken - 0,15m breed | E72: 0.15
A73: Paal 89 x 5500mm - RAL 7043 | C73: 73 | D73: Dwarsstreep door witte driehoeken 0,21m x 0,30m - aantal driehoeken | E73: 0.032
A74: Paal 89 x 6000mm - RAL 2009 | C74: 74 | D74: Opschrift "STOP" recht - 2,00m x 4,00m | E74: 3.087
... A76: Paal 89 x 7000mm - RAL 2009 | C76: 76 | D76: Reproductie B1 - 1,75m x 3,50m | E76: 2.206
A77: Paal 89 x 7000mm - RAL 7043 | C77: 77 | D77: Reproductie B1 schuin - 1,75m x 3,50m | E77: 2,206m
A78: Paal 114 x 2000mm - RAL 2009 | C78: 78 | D78: Ribbelstrook (rijstrookbreedte - 0,50m) x 0,50m | E78: 1
A79: Paal 114 x 2000mm - RAL 7043 | C79: 79 | D79: Afremmingsstreep (rijstrookbreedte - 0,50m) x 0,50m | E79: 1
A80: Paal 114 x 3000mm - RAL 2009 | C80: 80 | D80: Verkeersgeleider - excl. randmarkering | E80: 0.4
A81: Paal 114 x 3000mm - RAL 7043 | C81: 81 | D81: Verdrijvingsvlak - excl. randmarkering | E81: 0.4
A82: Paal 114 x 4000mm - RAL 2009 | C82: 82 | D82: Verkeersgeleider - randmarkering - 0,15m breed | E82: 0.15
A83: Paal 114 x 4000mm - RAL 7043 | C83: 83 | D83: Verdrijvingsvlak - randmarkering - 0,15m breed | E83: 0.15
A84: Paal 114 x 4500mm - RAL 2009 | C84: 84 | D84: Verkeersgeleider > 50m - excl. randmarkering | E84: 0.33333333
A85: Paal 114 x 4500mm - RAL 7043 | C85: 85 | D85: Verdrijvingsvlak > 50m - excl. randmarkering | E85: 0.33333333
A86: Paal 114 x 5000mm - RAL 2009 | C86: 86 | D86: Opschrift "50" - 1,28m x 2,40m | E86: 1.431
A87: Paal 114 x 5000mm - RAL 7043 | C87: 87 | D87: Opschrift "30" - 1,28m x 2,40m | E87: 1.46
A88: Paal 114 x 5500mm - RAL 2009 | C88: 88 | D88: Reproductie A21 - 1,20m x 2,40m | E88: 1.683
A89: Paal 114 x 5500mm - RAL 7043 | C89: 89 | D89: Reproductie A23 - 1,20m x 2,40m | E89: 1.862
... A105: Paal 133 x 5500mm - RAL 7043 | C105: 105 | D105: Rode aslijn - 0,30m breed | E105: 0.3
A106: Paal 133 x 6000mm - RAL 2009
A107: Paal 133 x 6000mm - RAL 7043
A108: Paal 133 x 7000mm - RAL 2009
A109: Paal 133 x 7000mm - RAL 7043
A110: A1a - 400mm
A111: A1a - 700mm
A112: A1a - 900mm
A113: A1a - 1100mm
A114: A1b - 400mm
A115: A1b - 700mm
A116: A1b - 900mm
A117: A1b - 1100mm
... A744: Niet geïdentificeerd
